BEGIN:VCALENDAR
VERSION:2.0
PRODID:-//Visit Eidsfoss - ECPv6.15.20//NONSGML v1.0//EN
CALSCALE:GREGORIAN
METHOD:PUBLISH
X-ORIGINAL-URL:https://visiteidsfoss.no/en/
X-WR-CALDESC:Events for Visit Eidsfoss
REFRESH-INTERVAL;VALUE=DURATION:PT1H
X-Robots-Tag:noindex
X-PUBLISHED-TTL:PT1H
BEGIN:VTIMEZONE
TZID:Europe/Oslo
BEGIN:DAYLIGHT
TZOFFSETFROM:+0100
TZOFFSETTO:+0200
TZNAME:CEST
DTSTART:20240331T010000
END:DAYLIGHT
BEGIN:STANDARD
TZOFFSETFROM:+0200
TZOFFSETTO:+0100
TZNAME:CET
DTSTART:20241027T010000
END:STANDARD
BEGIN:DAYLIGHT
TZOFFSETFROM:+0100
TZOFFSETTO:+0200
TZNAME:CEST
DTSTART:20250330T010000
END:DAYLIGHT
BEGIN:STANDARD
TZOFFSETFROM:+0200
TZOFFSETTO:+0100
TZNAME:CET
DTSTART:20251026T010000
END:STANDARD
BEGIN:DAYLIGHT
TZOFFSETFROM:+0100
TZOFFSETTO:+0200
TZNAME:CEST
DTSTART:20260329T010000
END:DAYLIGHT
BEGIN:STANDARD
TZOFFSETFROM:+0200
TZOFFSETTO:+0100
TZNAME:CET
DTSTART:20261025T010000
END:STANDARD
END:VTIMEZONE
BEGIN:VEVENT
DTSTART;VALUE=DATE:20250607
DTEND;VALUE=DATE:20250608
DTSTAMP:20260425T153224
CREATED:20250522T133844Z
LAST-MODIFIED:20250603T125813Z
UID:8901-1749254400-1749340799@visiteidsfoss.no
SUMMARY:June 7th – Shrimp trip on MS Eikern at Pentecost
DESCRIPTION:Join us on a boat trip during Pentecost\nWe serve shrimp and delicious side dishes. Open to all. \nWelcome to an eventful day at Eidsfoss\, with a visit to the Ironworks Museum\, a trip to the traditional Pentecost market and a tour on the beautiful lake Eikern with the boat MS Eikern.  \nStart the day with a trip to the Ironworks Museum at Eidsfoss.  \nEntrance to the museum is included in the ticket for the boat trip. The museum exhibition showcases many of the products that have been produced at the works and about what it was like to live and work at Eidsfoss. You can also see the exhibition “The Train of the Future – a Railway History Exhibition”\, which is about the importance of the railway for Eidsfoss\, and the importance of the Eidsfoss works for the railway.  \nDuring the Pentecost market\, the museum also has tin casting and forging for children\, and you can buy our delicious Eidsfoss waffle.  \nWe can also recommend a visit to the traditional Pentecost market at Eidsfoss. There are many different activities\, stalls\, open shops and cafes.  \nSee more information about the market here.  \nTickets\n Kr 650.- including shrimp and a visit to the Ironworks Museum. Buy tickets here  \nProgram\n11.00–16.00 The Ironworks Museum and the Pentecost market are open.  \n15.00–18.00 Departure with MS Eikern from Eidsfoss at 15.00\, with return to Eidsfoss at 18.00  \nDuring the trip\, shrimp will be served. Drinks can be purchased on board. Read more about the boat MS Eikern at mseikern.no.
URL:https://visiteidsfoss.no/en/event/may-7th-shrimp-trip-on-ms-eikern-at-pentecost/
LOCATION:Eidsfoss brygge
ATTACH;FMTTYPE=image/jpeg:https://visiteidsfoss.no/wp-content/uploads/2024/06/mseikernbilde_edit.jpg
END:VEVENT
END:VCALENDAR