BEGIN:VCALENDAR
VERSION:2.0
PRODID:-//Visit Eidsfoss - ECPv6.15.20//NONSGML v1.0//EN
CALSCALE:GREGORIAN
METHOD:PUBLISH
X-ORIGINAL-URL:https://visiteidsfoss.no
X-WR-CALDESC:Arrangement for Visit Eidsfoss
REFRESH-INTERVAL;VALUE=DURATION:PT1H
X-Robots-Tag:noindex
X-PUBLISHED-TTL:PT1H
BEGIN:VTIMEZONE
TZID:Europe/Oslo
BEGIN:DAYLIGHT
TZOFFSETFROM:+0100
TZOFFSETTO:+0200
TZNAME:CEST
DTSTART:20230326T010000
END:DAYLIGHT
BEGIN:STANDARD
TZOFFSETFROM:+0200
TZOFFSETTO:+0100
TZNAME:CET
DTSTART:20231029T010000
END:STANDARD
BEGIN:DAYLIGHT
TZOFFSETFROM:+0100
TZOFFSETTO:+0200
TZNAME:CEST
DTSTART:20240331T010000
END:DAYLIGHT
BEGIN:STANDARD
TZOFFSETFROM:+0200
TZOFFSETTO:+0100
TZNAME:CET
DTSTART:20241027T010000
END:STANDARD
BEGIN:DAYLIGHT
TZOFFSETFROM:+0100
TZOFFSETTO:+0200
TZNAME:CEST
DTSTART:20250330T010000
END:DAYLIGHT
BEGIN:STANDARD
TZOFFSETFROM:+0200
TZOFFSETTO:+0100
TZNAME:CET
DTSTART:20251026T010000
END:STANDARD
END:VTIMEZONE
BEGIN:VEVENT
DTSTART;TZID=Europe/Oslo:20241004T170000
DTEND;TZID=Europe/Oslo:20241004T200000
DTSTAMP:20260420T195345
CREATED:20240821T115148Z
LAST-MODIFIED:20240821T115148Z
UID:8553-1728061200-1728072000@visiteidsfoss.no
SUMMARY:Familiedag i Sandvik
DESCRIPTION:Mer informasjon kommer
URL:https://visiteidsfoss.no/event/familiedag-i-sandvik-2/
LOCATION:Sandvik
END:VEVENT
BEGIN:VEVENT
DTSTART;TZID=Europe/Oslo:20241011T190000
DTEND;TZID=Europe/Oslo:20241011T213000
DTSTAMP:20260420T195345
CREATED:20240821T115522Z
LAST-MODIFIED:20240821T115522Z
UID:8555-1728673200-1728682200@visiteidsfoss.no
SUMMARY:Vinsmaking Eidsfoss Hovedgård
DESCRIPTION:Eidsfoss Hovedgård inviterer til ny vinsmaking med vår prisbelønnede somelier Ninni 11 oktober 2024.\nMer informasjon om tema kommer.\n\nKurset varer fra 19-21.30 og baren er åpen både før og etter smakingen. \nPåmelding / billetterhttps://fabnite.com/no/events/vinsmaking-med-ninni-mat-and-drikke\nDet er mulig å bestille gavekort på booking@crocus.no
URL:https://visiteidsfoss.no/event/vinsmaking-eidsfoss-hovedgard/
LOCATION:Eidsfoss Hovedgård
END:VEVENT
BEGIN:VEVENT
DTSTART;TZID=Europe/Oslo:20241026T170000
DTEND;TZID=Europe/Oslo:20241026T200000
DTSTAMP:20260420T195345
CREATED:20240821T112730Z
LAST-MODIFIED:20250320T150410Z
UID:8544-1729962000-1729972800@visiteidsfoss.no
SUMMARY:Skrekk og Gru på Eidsfoss Hovedgård
DESCRIPTION:x Skrekk og gru på Eidsfoss hovedgård\, lørdag 26.oktober\nVi inviterer til en lysende dyster kveldsstemning i høstmørket\, med aktiviteter for store og små på den gamle jernverkeiergården Eidsfoss hovedgård. Tør du\, vil du møte både grøss og gruvekkende opplevelser fra den andre virkeligheten.\nDystre verkstederNå har du muligheten til å forberede selveste Halloween\, eller Allehelgensnatt\, den 31.oktober! Kom til Eidsfoss lørdag 26.oktober for å lage skumle effekter\, og oppleve skremmende spøkelsesvandring eller utsette deg for fortellerkunst av mørke historier! Da har du forberedt deg godt til halloweennattens magiske mørke.\nEidsfoss hovedgård har åpen kafé hele kvelden\, og kan friste med både mat og drikke\, som nattsvart kaffe og blodrød saft!\n\n\nBilletter: kr. 100\,- pr.pers. \, familiebillett (2 b+2v) kr. 300\,- .FORHÅNDSSALG av billetter legges ut snarteller kjøpes ved inngangen\, VIPPS eller kort. Ikke kontant.
URL:https://visiteidsfoss.no/event/skrekk-og-gru-pa-eidsfoss-hovedgard-2/
END:VEVENT
END:VCALENDAR