BEGIN:VCALENDAR
VERSION:2.0
PRODID:-//Visit Eidsfoss - ECPv6.15.20//NONSGML v1.0//EN
CALSCALE:GREGORIAN
METHOD:PUBLISH
X-WR-CALNAME:Visit Eidsfoss
X-ORIGINAL-URL:https://visiteidsfoss.no
X-WR-CALDESC:Arrangement for Visit Eidsfoss
REFRESH-INTERVAL;VALUE=DURATION:PT1H
X-Robots-Tag:noindex
X-PUBLISHED-TTL:PT1H
BEGIN:VTIMEZONE
TZID:Europe/Oslo
BEGIN:DAYLIGHT
TZOFFSETFROM:+0100
TZOFFSETTO:+0200
TZNAME:CEST
DTSTART:20230326T010000
END:DAYLIGHT
BEGIN:STANDARD
TZOFFSETFROM:+0200
TZOFFSETTO:+0100
TZNAME:CET
DTSTART:20231029T010000
END:STANDARD
BEGIN:DAYLIGHT
TZOFFSETFROM:+0100
TZOFFSETTO:+0200
TZNAME:CEST
DTSTART:20240331T010000
END:DAYLIGHT
BEGIN:STANDARD
TZOFFSETFROM:+0200
TZOFFSETTO:+0100
TZNAME:CET
DTSTART:20241027T010000
END:STANDARD
BEGIN:DAYLIGHT
TZOFFSETFROM:+0100
TZOFFSETTO:+0200
TZNAME:CEST
DTSTART:20250330T010000
END:DAYLIGHT
BEGIN:STANDARD
TZOFFSETFROM:+0200
TZOFFSETTO:+0100
TZNAME:CET
DTSTART:20251026T010000
END:STANDARD
END:VTIMEZONE
BEGIN:VEVENT
DTSTART;TZID=Europe/Oslo:20240501T160000
DTEND;TZID=Europe/Oslo:20240501T180000
DTSTAMP:20260420T135352
CREATED:20240325T114244Z
LAST-MODIFIED:20240325T114244Z
UID:7909-1714579200-1714586400@visiteidsfoss.no
SUMMARY:Konsert og foredrag på Hallen etter tog\, is og taler
DESCRIPTION:Konsert med Torgeir Waldemar og foredrag på Hallen etter tog og taler\nEtter at toget fra Varden har ankommet Verkstedstranda\, og man er ferdig med taler og is\, kan du være med på foredrag og konsert i det gamle forsamlingshuset Eidsfoss hall. Frank Meyer fra Kongsberg bergverksmuseum forteller om skulking\, fyll\, tjuveri og arbeideropprør på Næs jernverk. Så byr Torgeir Waldemar på følsom\, men upolert og brutalt ærlig Americana. Inngang Hallen: 150-\, kun vipps. \nVelkommen til første mai på Eidsfoss. \nProgram \nKl 13: tog fra Varden til Hallen med kamprop\, faner\, bannere og plakater – ta gjerne med egne! \nKl 13.20: Eidsfoss Landhandel\, Hof Hornmusikk spiller\, allsang Internasjonalen \nKl 14: Taler\, is til barna og aktiviteter på Verkstedstranda. Salg av kaffe og kaker/is \nKl 16: Foredrag med Frank Meyer på Hallen «Skulking\, fyll\, tjuveri og arbeideropprør på Næs jernverk». \nKl 17 : Konsert på Hallen med Torgeir Waldemar \n \n  \nFrank Meyer: «Skulking\, fyll\, tjuveri og arbeideropprør på Næs jernverk».\nFrank Meyer\, Kongsberg bergverksmuseum (tidl. Næs jernverksmuseum)\,  forteller fra Næs jernverks arbeiderhistorie. Jernverket opplevde svært gode tider fra midten av 1700-tallet. Samtidig økte forskjellene i de materielle levekåra mellom «øverst» og «nederst» i verkssamfunnet. Hvordan reagerte arbeiderne på denne utviklingen? Med bakgrunn i Næs jernverks justisprotokoll forteller Frank Meyer om arbeidernes ulike reaksjoner i møte med høyere arbeidspress og en dramatisk forverring av arbeiderfamilienes levekår. \nMeyer er en tysk-norsk historiker med lang fartstid i både arkiv- og museumssektoren i Norge\, som dr.art. fra Universitetet i Oslo (2001) og dr.phil. fra Universität Greifswald (1997). Han har vært førstearkivar og avdelingsleder ved Riksarkivet i Oslo\, daglig leder for Arbeiderbevegelsens arkiv og bibliotek med redaktøransvar for tidsskriftet Arbeiderhistorie\, innehatt professorstilling ved Høgskolen i Oslo og jobbet som historiker og prosjektleder ved Næs jernverksmuseum i Tvedestrand. Fra mai 2024 er han avdelingsleder ved Bergverksmuseet på Kongsberg. \nTorgeir Waldemar: Intim konsert\nTorgeir Waldemar har spilt på SXSW i Austin\, turnert Europa rundt\, vært på Lindmo\, fylt Rockefeller og spilt for en fullsatt sal i Den Norske Opera med strykere\, band og dansere.\nNå fjerner Torgeir all unødvendig staffasje og reiser ut alene uten annet selskap enn en banjo og en gitar. Norgesturneen starter i september og Waldemar skal gjennom høsten besøke klubber og kulturhus\, i bygder og byer\, gjennom vårt langstrakte land. Bli med inn til en intim aften med følsom\, men upolert og brutalt ærlig Americana. Direkte\, oppriktig og usminket\, her finner du Torgeir Waldemar.
URL:https://visiteidsfoss.no/event/konsert-og-foredrag-pa-hallen-etter-tog-is-og-taler/
LOCATION:Eidsfoss hall\, Markenrudveien 10\, Eidsfoss\, 3095\, Norge
ATTACH;FMTTYPE=image/gif:https://visiteidsfoss.no/wp-content/uploads/2018/04/tog-2017-1-edit.gif
END:VEVENT
BEGIN:VEVENT
DTSTART;TZID=Europe/Oslo:20240511T130000
DTEND;TZID=Europe/Oslo:20240511T200000
DTSTAMP:20260420T135352
CREATED:20240508T091038Z
LAST-MODIFIED:20240508T133725Z
UID:8295-1715432400-1715457600@visiteidsfoss.no
SUMMARY:Eidsfoss minifestival
DESCRIPTION:Minifestival i Lund\nVelkommen til minifestival på den restaurerte scenen i Lund\, der Eidsfossdagen og andre arrangementer fant sted. På scenen står Pocket of Three\, Vise menn\, The Roses\, Nordbylende Mek. Verksted\, Undercover Bluesband\, Busdrivers\, Julie\, Ulf & HP\, lyrikk ved Roger Hansen og Lars Stokke. Åpen mikrofon! \nHvis det er dårlig vær\, foregår arrangementet inne på Pusserstallen. Gratis inngang!
URL:https://visiteidsfoss.no/event/eidsfoss-minifestival/
LOCATION:Lund\, Plasseskogen\, Eidsfoss\, Norge
ATTACH;FMTTYPE=image/jpeg:https://visiteidsfoss.no/wp-content/uploads/2017/07/3.1-Else-marie-Backe-Søndagstur-ca.-1900_edited-1-e1507033303883.jpg
END:VEVENT
BEGIN:VEVENT
DTSTART;TZID=Europe/Oslo:20240519T120000
DTEND;TZID=Europe/Oslo:20240520T160000
DTSTAMP:20260420T135352
CREATED:20240404T112242Z
LAST-MODIFIED:20240416T134112Z
UID:7967-1716120000-1716220800@visiteidsfoss.no
SUMMARY:Pinsemarked 19-20 mai
DESCRIPTION:Markedet er åpent fra 12 til 16 begge dager.\n\n\nAKTIVITETSPROGRAM:\nSØNDAG 19. mai:\n– Kl. 13 Familieforestilling med buktaler Cecilie Schilling & meet and greet med dukkene (Sirkusteltet ved Hovedgården)\n– Kl. 14.30 Trylleshow og trylletriks med magiker Daniel Larsen (Sirkusteltet ved Hovedgården)\nHele dagen:\n– Hest og vogn (start: Bettumverkstedet\, 50 kr)\n– Legobygging med Holmestrand bibliotek (Kavalérfløyen ved Hovedgården)\n– Nystekt brød og bakst hos Bakerlauget (Kavalérfløyen ved Hovedgården)\n– Svarttrost smie: Smi glødende jern (Jernverksmuseum\, 50 kr)\n– Tinnstøping (50 kr\, Jernverksmuseum)\n– Eidsfoss-vaffel (Jernverksmuseum)\n– Stolpejakt\n\nMANDAG 20. mai\n– Kl. 13 Familieunderholdning med Julie Vega\n– Hest og vogn (start: Bettumverkstedet\, 50 kr)\n– Legobygging med Holmestrand bibliotek (Kavalérfløyen ved Hovedgården)\n– Nystekt brød og bakst hos Bakerlauget (Kavalérfløyen ved Hovedgården)\n– Svarttrost smie: Smi glødende jern (Jernverksmuseum\, 50 kr)\n– Tinnstøping (50 kr\, Jernverksmuseum)\n– Eidsfoss-vaffel (Jernverksmuseum)\n– Stolpejakt\n\nVelkommen til en vakker vårdag på historiske Eidsfoss!\nVil du være utstiller? Ta kontakt på eidsfossmarked@gmail.com
URL:https://visiteidsfoss.no/event/pinsemarked-19-20-mai/
LOCATION:Eidsfoss
ATTACH;FMTTYPE=image/jpeg:https://visiteidsfoss.no/wp-content/uploads/2024/04/pinsetreff1.jpg
ORGANIZER;CN="Eidsfoss markedsgruppe":MAILTO:eidsfossmarked@gmail.com
END:VEVENT
END:VCALENDAR