BEGIN:VCALENDAR
VERSION:2.0
PRODID:-//Visit Eidsfoss - ECPv6.15.20//NONSGML v1.0//EN
CALSCALE:GREGORIAN
METHOD:PUBLISH
X-WR-CALNAME:Visit Eidsfoss
X-ORIGINAL-URL:https://visiteidsfoss.no
X-WR-CALDESC:Arrangement for Visit Eidsfoss
REFRESH-INTERVAL;VALUE=DURATION:PT1H
X-Robots-Tag:noindex
X-PUBLISHED-TTL:PT1H
BEGIN:VTIMEZONE
TZID:Europe/Oslo
BEGIN:DAYLIGHT
TZOFFSETFROM:+0100
TZOFFSETTO:+0200
TZNAME:CEST
DTSTART:20220327T010000
END:DAYLIGHT
BEGIN:STANDARD
TZOFFSETFROM:+0200
TZOFFSETTO:+0100
TZNAME:CET
DTSTART:20221030T010000
END:STANDARD
BEGIN:DAYLIGHT
TZOFFSETFROM:+0100
TZOFFSETTO:+0200
TZNAME:CEST
DTSTART:20230326T010000
END:DAYLIGHT
BEGIN:STANDARD
TZOFFSETFROM:+0200
TZOFFSETTO:+0100
TZNAME:CET
DTSTART:20231029T010000
END:STANDARD
BEGIN:DAYLIGHT
TZOFFSETFROM:+0100
TZOFFSETTO:+0200
TZNAME:CEST
DTSTART:20240331T010000
END:DAYLIGHT
BEGIN:STANDARD
TZOFFSETFROM:+0200
TZOFFSETTO:+0100
TZNAME:CET
DTSTART:20241027T010000
END:STANDARD
BEGIN:DAYLIGHT
TZOFFSETFROM:+0100
TZOFFSETTO:+0200
TZNAME:CEST
DTSTART:20250330T010000
END:DAYLIGHT
BEGIN:STANDARD
TZOFFSETFROM:+0200
TZOFFSETTO:+0100
TZNAME:CET
DTSTART:20251026T010000
END:STANDARD
END:VTIMEZONE
BEGIN:VEVENT
DTSTART;TZID=Europe/Oslo:20230823T080000
DTEND;TZID=Europe/Oslo:20231221T210000
DTSTAMP:20260420T225014
CREATED:20230823T110920Z
LAST-MODIFIED:20230823T110920Z
UID:7775-1692777600-1703192400@visiteidsfoss.no
SUMMARY:Yoga og Pilates i Spisesalen
DESCRIPTION:Velkommen til høstsemesteret i Spisesalen – Eidsfoss!  Vi utvider tilbudet vårt. Fra og med uke 34 ser timeplanen ut som følger: \nMandag: \n19:00 Yin yoga\n20:15 Pilates \nTirsdag: \n17:30 kids yoga (uke 35)\n18:45  Hatha yoga\n20:00 Kundalini yoga \nOnsdag: \n17:30 Kids aikido (uke 35)\n18:45 Youth/ adult aikido (uke 35)\n20:00 Vinyasa yoga \nTorsdag: \n18:00 Yin yoga\n19:00 Pilates \nMerk: \n❗️Barnetreningen starter fra uke 35. ‍♂️ \n❗️Hver partallshelg blir det fordypningstime (2t) i yoga. Første helg blir 10.9 ‍♀️ \n❗️Siden vi utvider tilbudet vårt blir pris for\nmedlemskap pr mnd 650kr fra 1.9. Med mndspris kan du benytte deg av ALLE timer på timeplanen.  \n❗️Pris for barn/ungdom opp til 18 år: 1200kr per semester. Halv pris for barn nr 2\, 3 osv.  \nVelkommen til oss!  \nHilsen Mary\, Mari\, Lars og Kristin
URL:https://visiteidsfoss.no/event/yoga-og-pilates-i-spisesalen/
END:VEVENT
BEGIN:VEVENT
DTSTART;TZID=Europe/Oslo:20231103T160000
DTEND;TZID=Europe/Oslo:20231103T200000
DTSTAMP:20260420T225014
CREATED:20230625T131605Z
LAST-MODIFIED:20230625T131605Z
UID:7703-1699027200-1699041600@visiteidsfoss.no
SUMMARY:Lutefiskaften på Kroa
DESCRIPTION:Tradisjonell lutefisktallerken i historiske lokaler. \nAndre datoer: 4.\, 10\, og 11. november \nBordbestilling 33 05 70 00
URL:https://visiteidsfoss.no/event/lutefiskaften-pa-kroa-4/
LOCATION:Gamle Eidsfos Kro
END:VEVENT
BEGIN:VEVENT
DTSTART;TZID=Europe/Oslo:20231104T170000
DTEND;TZID=Europe/Oslo:20231104T170000
DTSTAMP:20260420T225014
CREATED:20230907T093854Z
LAST-MODIFIED:20230907T094107Z
UID:7795-1699117200-1699117200@visiteidsfoss.no
SUMMARY:Lutefiskaften på  Kroa
DESCRIPTION:Velkommen til tradisjonell lutefisktallerken i historiske lokaler. \nAndre datoer: 10\, og 11. november \nBordbestilling 33 05 70 00
URL:https://visiteidsfoss.no/event/lutefiskaften-pa-gamle-eidsfoss-kro/
END:VEVENT
BEGIN:VEVENT
DTSTART;TZID=Europe/Oslo:20231110T170000
DTEND;TZID=Europe/Oslo:20231111T210000
DTSTAMP:20260420T225014
CREATED:20230907T094340Z
LAST-MODIFIED:20230907T094340Z
UID:7798-1699635600-1699736400@visiteidsfoss.no
SUMMARY:Lutefiskaften på Kroa
DESCRIPTION:Velkommen til tradisjonell lutefisktallerken i historiske lokaler. \nBordbestilling 33 05 70 00
URL:https://visiteidsfoss.no/event/lutefiskaften-pa-kroa-5/
END:VEVENT
BEGIN:VEVENT
DTSTART;TZID=Europe/Oslo:20231111T180000
DTEND;TZID=Europe/Oslo:20231111T180000
DTSTAMP:20260420T225014
CREATED:20230907T094601Z
LAST-MODIFIED:20230907T101429Z
UID:7800-1699725600-1699725600@visiteidsfoss.no
SUMMARY:Lutefiskaften på Hovedgården
DESCRIPTION:Å spise bør være en opplevelse som deles blant venner. \nFå førjuls stemning med årets lutefisk aften på Hovedgården 11 november kl 18.00 \nbordbestilling på booking@crocus.no
URL:https://visiteidsfoss.no/event/lutefiskaften-pa-hovedgarden/
LOCATION:Eidsfoss Hovedgård
END:VEVENT
BEGIN:VEVENT
DTSTART;TZID=Europe/Oslo:20231117T140000
DTEND;TZID=Europe/Oslo:20231117T170000
DTSTAMP:20260420T225014
CREATED:20230907T095005Z
LAST-MODIFIED:20230907T095421Z
UID:7803-1700229600-1700240400@visiteidsfoss.no
SUMMARY:Afternoon Tea med kongelig julefeiring
DESCRIPTION:Velkommen til førjuls-afetrnoon tea med selveste Tove Taalesen 17 november kl.14.00. \nSuksess forfatteren som står bak de kritiker roste krim bøkene Dronningen og Livvakten. \nTove var verdens første kvinnelige lakei ved Det Kongelige Hof. Hun arbeidet ved Slottet i 10 år. \nTove vil fortelle om historien bak afternoon tea og om kongelig julefeiring. \n  \nKr. 495\,- p.p. Bordbestilling til booking@crocus.no
URL:https://visiteidsfoss.no/event/afternoon-tea-med-kongelig-julefeiring/
LOCATION:Eidsfoss Hovedgård
END:VEVENT
BEGIN:VEVENT
DTSTART;VALUE=DATE:20231125
DTEND;VALUE=DATE:20240127
DTSTAMP:20260420T225014
CREATED:20230625T131956Z
LAST-MODIFIED:20231124T085334Z
UID:7705-1700870400-1706313599@visiteidsfoss.no
SUMMARY:Julemarked
DESCRIPTION:JULEMARKED PÅ EIDSFOSS 25.-26. november\nVinteren nærmer seg og det er endelig duket for verdens koseligste julemarked på det historiske jernverkstedet Eidsfoss. Det blir mange boder med unike julegavetips og aktiviteter for hele familien. Et perfekt startskudd for årets julehandel\, med julestemningsgaranti! Markedet er åpent kl. 12-16 begge dager\, med aktiviteter og underholdning for hele familien. \nSjekk programmet for å finne ut når du kan få med deg linedance\, flammeshow\, korsang\, forestilling og julesanger med kulturskolen\, hest og kjerre eller juleverksted. Barna kan bli med på en tur med hest og kjerre\, og på Jernverksmuseet kan du få kjøpt Eidsfossvaffelen\, som er stekt på en skikkelig vedfyrt Eidsfossovn. På museet er det også andre morsomme familieaktiviteter\, som fuglematverksted og smikurs med Svarttrost smie. Dette blir koselige verksteder for alle aldre\, og resultatet kan være en flott og personlig julegave. \nEidsfoss kro\, Hovedgården\, Fruene på smia\, Molene og andre butikker og gallerier holder også åpent under markedet. Verksted\, hest og vogn og inngang på museet koster 50\,- Ellers er det gratis å komme inn på markedet. \nProgram\nLørdag \n\nStadshauptmand Schwartz har åpen båt og omvisning\nHest og kjerre mellom markedsområdet og Hovedgården\nJernverksmuseet er åpent 12-16\nFuglematverksted på Jernverksmuseet\nSmikurs på Jernverksmuseet\nSalg av Eidsfossvaffelen\, stekt på vedfyrt Eidsfossovn\n\n12:30   Julesanger med kulturskolens elever i hvitsalen på Eidsfoss hovedgård kl. 1230 \n13:00   Linedance med Kongsberg Looseboots \n13:30   Forestilling med kulturskolens teaterelever (ved brua) \n14:30   Flammeshow \n15:00   Linedance med Kongsberg Looseboots \n15:30   Flammeshow \n16:00   Markedet stenger \n  \nSøndag \n\nStadshauptmand Schwartz har åpen båt og omvisning\nHest og kjerre mellom markedsområdet og Hovedgården\nJernverksmuseet er åpent\nFuglematverksted på Jernverksmuseet\nSmikurs på Jernverksmuseet\nSalg av Eidsfossvaffelen\, stekt på vedfyrt Eidsfossovn\n\n12-15   Juleverksted \n14:00   Flammeshow \n15:30   Flammeshow \n16:00   Markedet stenger \n  \n 
URL:https://visiteidsfoss.no/event/julemarked-4/
LOCATION:Eidsfoss
END:VEVENT
END:VCALENDAR