BEGIN:VCALENDAR
VERSION:2.0
PRODID:-//Visit Eidsfoss - ECPv6.15.20//NONSGML v1.0//EN
CALSCALE:GREGORIAN
METHOD:PUBLISH
X-ORIGINAL-URL:https://visiteidsfoss.no
X-WR-CALDESC:Arrangement for Visit Eidsfoss
REFRESH-INTERVAL;VALUE=DURATION:PT1H
X-Robots-Tag:noindex
X-PUBLISHED-TTL:PT1H
BEGIN:VTIMEZONE
TZID:Europe/Oslo
BEGIN:DAYLIGHT
TZOFFSETFROM:+0100
TZOFFSETTO:+0200
TZNAME:CEST
DTSTART:20220327T010000
END:DAYLIGHT
BEGIN:STANDARD
TZOFFSETFROM:+0200
TZOFFSETTO:+0100
TZNAME:CET
DTSTART:20221030T010000
END:STANDARD
BEGIN:DAYLIGHT
TZOFFSETFROM:+0100
TZOFFSETTO:+0200
TZNAME:CEST
DTSTART:20230326T010000
END:DAYLIGHT
BEGIN:STANDARD
TZOFFSETFROM:+0200
TZOFFSETTO:+0100
TZNAME:CET
DTSTART:20231029T010000
END:STANDARD
BEGIN:DAYLIGHT
TZOFFSETFROM:+0100
TZOFFSETTO:+0200
TZNAME:CEST
DTSTART:20240331T010000
END:DAYLIGHT
BEGIN:STANDARD
TZOFFSETFROM:+0200
TZOFFSETTO:+0100
TZNAME:CET
DTSTART:20241027T010000
END:STANDARD
END:VTIMEZONE
BEGIN:VEVENT
DTSTART;TZID=Europe/Oslo:20230804T180000
DTEND;TZID=Europe/Oslo:20230804T210000
DTSTAMP:20260421T045244
CREATED:20230624T124137Z
LAST-MODIFIED:20230624T124137Z
UID:7665-1691172000-1691182800@visiteidsfoss.no
SUMMARY:Reker og rockabilly fra Thorrud Camping
DESCRIPTION:Rekecruise med levende musikk. \nAdgang fra Thorrud Camping klokka 18.00\, retur samme sted klokka 21.00 \nBestill Billetter på : https://mseikern.no/vare-turer/
URL:https://visiteidsfoss.no/event/reker-og-rockabilly-fra-thorrud-camping/
LOCATION:Thorrud Camping\, 3095
END:VEVENT
BEGIN:VEVENT
DTSTART;TZID=Europe/Oslo:20230808T120000
DTEND;TZID=Europe/Oslo:20230808T160000
DTSTAMP:20260421T045244
CREATED:20230625T124507Z
LAST-MODIFIED:20230731T075001Z
UID:7689-1691496000-1691510400@visiteidsfoss.no
SUMMARY:Lyckliga gatan barnefest
DESCRIPTION:Aktiviteter\, underholdning og moro på Eidsfoss Hall. Gratis
URL:https://visiteidsfoss.no/event/lyckliga-gatan-barnefest-4/
LOCATION:Eidsfoss hall\, Markenrudveien 10\, Eidsfoss\, 3095\, Norge
END:VEVENT
BEGIN:VEVENT
DTSTART;TZID=Europe/Oslo:20230810T160000
DTEND;TZID=Europe/Oslo:20230810T170000
DTSTAMP:20260421T045244
CREATED:20230625T125010Z
LAST-MODIFIED:20230625T125258Z
UID:7691-1691683200-1691686800@visiteidsfoss.no
SUMMARY:Omvisning Eidsfos Hovedgård og hage
DESCRIPTION:Bli med på en spennende omvisning om vakre Eidsfoss hovedgård og hageanlegget. \nEidsfos Hovedgård er fra ca. 1750 – oppført i rokokko og fredet i 1922. Her har verkseiere og disponenter har hatt sin bolig i over 250 år. Det er lagt ned mange arbeidstimer for å gjenskape interiørene slik undersøkelser har gitt konservatorene fortellinger om hvordan rommene har sett ut til ulike tider. En vandring gjennom rommene på Eidsfoss Hovedgård er en reise gjennom flere tidsepoker og interiørhistorie. \nBillettpris kr 100\,- \nOmvisning med kurator Hilde Woxen Stormark
URL:https://visiteidsfoss.no/event/omvisning-eidsfos-hovedgard-og-hage/
LOCATION:Eidsfos Hovedgård\, oppmøte Snekkerverkstedet
END:VEVENT
BEGIN:VEVENT
DTSTART;TZID=Europe/Oslo:20230823T080000
DTEND;TZID=Europe/Oslo:20231221T210000
DTSTAMP:20260421T045244
CREATED:20230823T110920Z
LAST-MODIFIED:20230823T110920Z
UID:7775-1692777600-1703192400@visiteidsfoss.no
SUMMARY:Yoga og Pilates i Spisesalen
DESCRIPTION:Velkommen til høstsemesteret i Spisesalen – Eidsfoss!  Vi utvider tilbudet vårt. Fra og med uke 34 ser timeplanen ut som følger: \nMandag: \n19:00 Yin yoga\n20:15 Pilates \nTirsdag: \n17:30 kids yoga (uke 35)\n18:45  Hatha yoga\n20:00 Kundalini yoga \nOnsdag: \n17:30 Kids aikido (uke 35)\n18:45 Youth/ adult aikido (uke 35)\n20:00 Vinyasa yoga \nTorsdag: \n18:00 Yin yoga\n19:00 Pilates \nMerk: \n❗️Barnetreningen starter fra uke 35. ‍♂️ \n❗️Hver partallshelg blir det fordypningstime (2t) i yoga. Første helg blir 10.9 ‍♀️ \n❗️Siden vi utvider tilbudet vårt blir pris for\nmedlemskap pr mnd 650kr fra 1.9. Med mndspris kan du benytte deg av ALLE timer på timeplanen.  \n❗️Pris for barn/ungdom opp til 18 år: 1200kr per semester. Halv pris for barn nr 2\, 3 osv.  \nVelkommen til oss!  \nHilsen Mary\, Mari\, Lars og Kristin
URL:https://visiteidsfoss.no/event/yoga-og-pilates-i-spisesalen/
END:VEVENT
BEGIN:VEVENT
DTSTART;TZID=Europe/Oslo:20230826T110000
DTEND;TZID=Europe/Oslo:20230826T160000
DTSTAMP:20260421T045244
CREATED:20230625T125623Z
LAST-MODIFIED:20230625T125623Z
UID:7694-1693047600-1693065600@visiteidsfoss.no
SUMMARY:Friluftstreffet
DESCRIPTION:Fisking\, fjellklatring\, fuglekasse-snekring\, blinkskyting\, ridning\, støpeverksted\, smikurs\, m.m. \nGratis
URL:https://visiteidsfoss.no/event/friluftstreffet-2/
END:VEVENT
BEGIN:VEVENT
DTSTART;TZID=Europe/Oslo:20230826T170000
DTEND;TZID=Europe/Oslo:20230826T190000
DTSTAMP:20260421T045244
CREATED:20230625T125911Z
LAST-MODIFIED:20230625T125911Z
UID:7696-1693069200-1693076400@visiteidsfoss.no
SUMMARY:Åpning Dampbåten Statshauptmand Schwartz
DESCRIPTION:Musikk med Vise Menn og Delivery \nOmvisning\, sveler og kaffe \nGratis
URL:https://visiteidsfoss.no/event/apning-dampbaten-statshauptmand-schwartz/
LOCATION:Dampbåten/ Kølabånn
END:VEVENT
END:VCALENDAR