BEGIN:VCALENDAR
VERSION:2.0
PRODID:-//Visit Eidsfoss - ECPv6.15.20//NONSGML v1.0//EN
CALSCALE:GREGORIAN
METHOD:PUBLISH
X-WR-CALNAME:Visit Eidsfoss
X-ORIGINAL-URL:https://visiteidsfoss.no
X-WR-CALDESC:Arrangement for Visit Eidsfoss
REFRESH-INTERVAL;VALUE=DURATION:PT1H
X-Robots-Tag:noindex
X-PUBLISHED-TTL:PT1H
BEGIN:VTIMEZONE
TZID:Europe/Oslo
BEGIN:DAYLIGHT
TZOFFSETFROM:+0100
TZOFFSETTO:+0200
TZNAME:CEST
DTSTART:20220327T010000
END:DAYLIGHT
BEGIN:STANDARD
TZOFFSETFROM:+0200
TZOFFSETTO:+0100
TZNAME:CET
DTSTART:20221030T010000
END:STANDARD
BEGIN:DAYLIGHT
TZOFFSETFROM:+0100
TZOFFSETTO:+0200
TZNAME:CEST
DTSTART:20230326T010000
END:DAYLIGHT
BEGIN:STANDARD
TZOFFSETFROM:+0200
TZOFFSETTO:+0100
TZNAME:CET
DTSTART:20231029T010000
END:STANDARD
BEGIN:DAYLIGHT
TZOFFSETFROM:+0100
TZOFFSETTO:+0200
TZNAME:CEST
DTSTART:20240331T010000
END:DAYLIGHT
BEGIN:STANDARD
TZOFFSETFROM:+0200
TZOFFSETTO:+0100
TZNAME:CET
DTSTART:20241027T010000
END:STANDARD
END:VTIMEZONE
BEGIN:VEVENT
DTSTART;TZID=Europe/Oslo:20230501T130000
DTEND;TZID=Europe/Oslo:20230501T173000
DTSTAMP:20260421T081617
CREATED:20230322T083136Z
LAST-MODIFIED:20230324T130136Z
UID:7341-1682946000-1682962200@visiteidsfoss.no
SUMMARY:Første mai på Eidsfoss
DESCRIPTION:Velkommen til 1. mai på Eidsfoss.\nToget starter fra Varden kl 13 og ankommer Hallen ca. kl. 14.00. Her blir det appeller og taler. \nProgram i Hallen\, kr. 50\,-\nKl. 16: Vestfossen mannskor synger arbeidersanger.\nKl. 16.20: Foredrag: Arbeiderbevegelsens røtter på Eidsfoss\, Kasper Rogde Søyland. \nI Vestfoldsammenheng\, var arbeiderne på Eidsfoss tidlig ute med å organisere seg\, og stedet var viktig i Arbeiderpartiets mobilisering på begynnelsen av 1900-tallet. Men da Formerforeningen og Arbeiderpartiet dannet lokallag\, hadde det i flere tiår vært et sterkt lokalt engasjement for å bedre arbeidsfolks kår på det lille industristedet. Vestfoldmuseenes konservator Kasper Rogde Søyland redegjør for denne tidlige fasen i framveksten av en organisert arbeiderbevegelse på Eidsfoss. Hvor kom ideene fra\, og når tok arbeiderne selv over ledelsen av bevegelsen\, er noen av spørsmålene som stilles.» \nKl. 17:00 Vestfossen mannskor synger flere arbeidersanger.
URL:https://visiteidsfoss.no/event/forste-mai-pa-eidsfoss/
LOCATION:Eidsfoss hall\, Markenrudveien 10\, Eidsfoss\, 3095\, Norge
ATTACH;FMTTYPE=image/gif:https://visiteidsfoss.no/wp-content/uploads/2018/04/tog-2017-1-edit.gif
END:VEVENT
BEGIN:VEVENT
DTSTART;TZID=Europe/Oslo:20230527T120000
DTEND;TZID=Europe/Oslo:20230528T170000
DTSTAMP:20260421T081617
CREATED:20230322T084851Z
LAST-MODIFIED:20230324T105438Z
UID:7347-1685188800-1685293200@visiteidsfoss.no
SUMMARY:Pinsetreff - Marked på Eidsfoss
DESCRIPTION:Stemningsfullt marked med aktiviteter for hele familien\nDenne kjære tradisjonen har i mer enn 30 år vært et sikkert tegn på at sommeren er i anmarsj. Bodene på industriområdet fylles opp med mange utstillere med hjemmelagde og kortreiste produkter. Som vanlig skjer det også mye mer og hele det historiske stedet byr på barneaktiviteter\, hest og vogn\, åpne spisesteder\, håndverksbutikker\, museer og gallerier.\nProgrammet er under utvikling og vi vil snart legge ut mer informasjon.\nVelkommen til en vakker vårdag på historiske Eidsfoss. \nÅpningstider: lørdag og søndag kl. 12-17 \nVil du være utstiller? Ta kontakt på eidsfossmarked@gmail.com
URL:https://visiteidsfoss.no/event/pinsetreff-marked-pa-eidsfoss/
LOCATION:Eidsfoss
ATTACH;FMTTYPE=image/jpeg:https://visiteidsfoss.no/wp-content/uploads/2019/03/telt-1.jpg
ORGANIZER;CN="Eidsfoss markedsgruppe":MAILTO:eidsfossmarked@gmail.com
END:VEVENT
END:VCALENDAR