BEGIN:VCALENDAR
VERSION:2.0
PRODID:-//Visit Eidsfoss - ECPv6.15.20//NONSGML v1.0//EN
CALSCALE:GREGORIAN
METHOD:PUBLISH
X-WR-CALNAME:Visit Eidsfoss
X-ORIGINAL-URL:https://visiteidsfoss.no
X-WR-CALDESC:Arrangement for Visit Eidsfoss
REFRESH-INTERVAL;VALUE=DURATION:PT1H
X-Robots-Tag:noindex
X-PUBLISHED-TTL:PT1H
BEGIN:VTIMEZONE
TZID:Europe/Oslo
BEGIN:DAYLIGHT
TZOFFSETFROM:+0100
TZOFFSETTO:+0200
TZNAME:CEST
DTSTART:20210328T010000
END:DAYLIGHT
BEGIN:STANDARD
TZOFFSETFROM:+0200
TZOFFSETTO:+0100
TZNAME:CET
DTSTART:20211031T010000
END:STANDARD
BEGIN:DAYLIGHT
TZOFFSETFROM:+0100
TZOFFSETTO:+0200
TZNAME:CEST
DTSTART:20220327T010000
END:DAYLIGHT
BEGIN:STANDARD
TZOFFSETFROM:+0200
TZOFFSETTO:+0100
TZNAME:CET
DTSTART:20221030T010000
END:STANDARD
BEGIN:DAYLIGHT
TZOFFSETFROM:+0100
TZOFFSETTO:+0200
TZNAME:CEST
DTSTART:20230326T010000
END:DAYLIGHT
BEGIN:STANDARD
TZOFFSETFROM:+0200
TZOFFSETTO:+0100
TZNAME:CET
DTSTART:20231029T010000
END:STANDARD
END:VTIMEZONE
BEGIN:VEVENT
DTSTART;VALUE=DATE:20221104
DTEND;VALUE=DATE:20221106
DTSTAMP:20260425T153130
CREATED:20220530T112926Z
LAST-MODIFIED:20220530T112926Z
UID:7140-1667520000-1667692799@visiteidsfoss.no
SUMMARY:Lutefiskaften på kroa
DESCRIPTION:Fredag og lørdag de to første helgene i november\, er det klart for de populære lutefiskaftenene på Eidsfos Gamle kro. Husk bordbestilling på 33 05 70 00. Her blir det fullt!
URL:https://visiteidsfoss.no/event/lutefiskaften-pa-kroa-2/
LOCATION:Bråtagata\, Gamle Eidsfos Kro
END:VEVENT
BEGIN:VEVENT
DTSTART;VALUE=DATE:20221111
DTEND;VALUE=DATE:20221113
DTSTAMP:20260425T153130
CREATED:20220530T113129Z
LAST-MODIFIED:20220530T113129Z
UID:7144-1668124800-1668297599@visiteidsfoss.no
SUMMARY:Lutefiskaften på kroa
DESCRIPTION:Fredag og lørdag de to første helgene i november\, er det klart for de populære lutefiskaftenene på Eidsfos Gamle kro. Husk bordbestilling på 33 05 70 00. Her blir det fullt!
URL:https://visiteidsfoss.no/event/lutefiskaften-pa-kroa-3/
LOCATION:Bråtagata\, Gamle Eidsfos Kro
END:VEVENT
BEGIN:VEVENT
DTSTART;TZID=Europe/Oslo:20221119T120000
DTEND;TZID=Europe/Oslo:20221120T170000
DTSTAMP:20260425T153130
CREATED:20220429T112927Z
LAST-MODIFIED:20221109T080700Z
UID:6990-1668859200-1668963600@visiteidsfoss.no
SUMMARY:Julemarked 19-20. november
DESCRIPTION:Julemarked på Eidsfoss\nvelkommen til en stemningsfull julehandel i historiske omgivelser\, med markedsboder\, støpeverksted\, smikurs\, underholdning og aktiviteter. \nLØRDAG 19. nov: \n\n12-17 Hestekjøring\, lirekassemusikk\n13 Musikk-elever fra Holmestrand kulturskole spiller jula inn. (teltet)\n14 «Rampenisseskolen» forestilling med kulurskolens minste teaterelever for hele familien (teltet)\n12-17 Smikurs og lysestøping på Jernverksmuseet\n\nSØNDAG 20. nov \n\n12-17 Hestekjøring\, lirekassemusikk\n12-17 Smikurs og lysestøping på Jernverksmuseet\n13 Trylleshow med Daniel Larsen (teltet\, gratis)\n14 «Julebarokk» – julemusikk og barokkmusikk fra 1700-tallet spilt på historiske instrumenter. Artister: Ensemble Biobarokk. (gratis\, Hovedgården\, hvit sal). Begrenset med plasser\, sikre deg gratis billett på ticketco.no.\n14 Juleverksted for barn med Julie og Rose (Hovedgården 2. etasje)\n15 «Julebarokk» – julemusikk og barokkmusikk fra 1700-tallet spilt på historiske instrumenter. Artister: Ensemble Biobarokk. (gratis\, Hovedgården\, hvit sal) Begrenset med plasser\, sikre deg gratis billett på ticketco.no.\n30 julefortelling foran peisen med Julie Vega Dahl
URL:https://visiteidsfoss.no/event/julemarked-19-20-november/
LOCATION:Eidsfoss
ORGANIZER;CN="Eidsfoss markedsgruppe":MAILTO:eidsfossmarked@gmail.com
END:VEVENT
END:VCALENDAR