BEGIN:VCALENDAR
VERSION:2.0
PRODID:-//Visit Eidsfoss - ECPv6.15.20//NONSGML v1.0//EN
CALSCALE:GREGORIAN
METHOD:PUBLISH
X-WR-CALNAME:Visit Eidsfoss
X-ORIGINAL-URL:https://visiteidsfoss.no
X-WR-CALDESC:Arrangement for Visit Eidsfoss
REFRESH-INTERVAL;VALUE=DURATION:PT1H
X-Robots-Tag:noindex
X-PUBLISHED-TTL:PT1H
BEGIN:VTIMEZONE
TZID:Europe/Oslo
BEGIN:DAYLIGHT
TZOFFSETFROM:+0100
TZOFFSETTO:+0200
TZNAME:CEST
DTSTART:20210328T010000
END:DAYLIGHT
BEGIN:STANDARD
TZOFFSETFROM:+0200
TZOFFSETTO:+0100
TZNAME:CET
DTSTART:20211031T010000
END:STANDARD
BEGIN:DAYLIGHT
TZOFFSETFROM:+0100
TZOFFSETTO:+0200
TZNAME:CEST
DTSTART:20220327T010000
END:DAYLIGHT
BEGIN:STANDARD
TZOFFSETFROM:+0200
TZOFFSETTO:+0100
TZNAME:CET
DTSTART:20221030T010000
END:STANDARD
BEGIN:DAYLIGHT
TZOFFSETFROM:+0100
TZOFFSETTO:+0200
TZNAME:CEST
DTSTART:20230326T010000
END:DAYLIGHT
BEGIN:STANDARD
TZOFFSETFROM:+0200
TZOFFSETTO:+0100
TZNAME:CET
DTSTART:20231029T010000
END:STANDARD
END:VTIMEZONE
BEGIN:VEVENT
DTSTART;TZID=Europe/Oslo:20220423T180000
DTEND;TZID=Europe/Oslo:20220423T230000
DTSTAMP:20260426T003949
CREATED:20220408T083243Z
LAST-MODIFIED:20220420T125947Z
UID:6915-1650736800-1650754800@visiteidsfoss.no
SUMMARY:Åpning av "nye" Hovedgården
DESCRIPTION:Konsert med «Vise menn» og familieaktiviteter lørdag 23. april kl 12-23\nEidsfoss hovedgård har fått ny driver\, som åpner dørene klokken 12 den 23. april. Arrangementet tidlig på dagen passer for hele familien. Det blir underholdning og aktiviteter for barn i alle aldre\, som trylleshow\, ballongshow\, tegneverksted med konkurranse\, ansiktsmaling\, historiefortellinger\, åpen cafe\, baking i bakeriet mm. \nKveldsarrangementet starter kl 18\, og varer til kl 23\, med åpen bar og konsert med orkesteret «Vise menn». Det bys på en enkel kveldsmeny.
URL:https://visiteidsfoss.no/event/apning-av-nye-hovedgarden/
LOCATION:Eidsfos Hovedgård
ORGANIZER;CN="Eidsfoss hovedg%C3%A5rd restaurant og selskapslokaler":MAILTO:hovedgaarden@crocus.no
END:VEVENT
BEGIN:VEVENT
DTSTART;TZID=Europe/Oslo:20220428T180000
DTEND;TZID=Europe/Oslo:20220428T200000
DTSTAMP:20260426T003949
CREATED:20220408T083927Z
LAST-MODIFIED:20220408T084923Z
UID:6919-1651168800-1651176000@visiteidsfoss.no
SUMMARY:Vinsmaking på Hovedgården 28 april
DESCRIPTION:Vinsmaking med tema «Bobler»\nkl 18-20 inviteres du til vinsmaking på i herskapelige omgivelser på Eidsfoss hovedgård. Denne gangen er det `bobler` som er tema. Påmelding til shop@crocus.no kr. 450\,- pr.pers.
URL:https://visiteidsfoss.no/event/vinskaing-pa-hovedgarden-28-april/
LOCATION:Eidsfos Hovedgård
ORGANIZER;CN="Eidsfoss hovedg%C3%A5rd restaurant og selskapslokaler":MAILTO:hovedgaarden@crocus.no
END:VEVENT
END:VCALENDAR