BEGIN:VCALENDAR
VERSION:2.0
PRODID:-//Visit Eidsfoss - ECPv6.15.20//NONSGML v1.0//EN
CALSCALE:GREGORIAN
METHOD:PUBLISH
X-WR-CALNAME:Visit Eidsfoss
X-ORIGINAL-URL:https://visiteidsfoss.no
X-WR-CALDESC:Arrangement for Visit Eidsfoss
REFRESH-INTERVAL;VALUE=DURATION:PT1H
X-Robots-Tag:noindex
X-PUBLISHED-TTL:PT1H
BEGIN:VTIMEZONE
TZID:Europe/Oslo
BEGIN:DAYLIGHT
TZOFFSETFROM:+0100
TZOFFSETTO:+0200
TZNAME:CEST
DTSTART:20210328T010000
END:DAYLIGHT
BEGIN:STANDARD
TZOFFSETFROM:+0200
TZOFFSETTO:+0100
TZNAME:CET
DTSTART:20211031T010000
END:STANDARD
BEGIN:DAYLIGHT
TZOFFSETFROM:+0100
TZOFFSETTO:+0200
TZNAME:CEST
DTSTART:20220327T010000
END:DAYLIGHT
BEGIN:STANDARD
TZOFFSETFROM:+0200
TZOFFSETTO:+0100
TZNAME:CET
DTSTART:20221030T010000
END:STANDARD
BEGIN:DAYLIGHT
TZOFFSETFROM:+0100
TZOFFSETTO:+0200
TZNAME:CEST
DTSTART:20230326T010000
END:DAYLIGHT
BEGIN:STANDARD
TZOFFSETFROM:+0200
TZOFFSETTO:+0100
TZNAME:CET
DTSTART:20231029T010000
END:STANDARD
END:VTIMEZONE
BEGIN:VEVENT
DTSTART;TZID=Europe/Oslo:20220308T180000
DTEND;TZID=Europe/Oslo:20220308T190000
DTSTAMP:20260426T015927
CREATED:20220314T140900Z
LAST-MODIFIED:20220314T140900Z
UID:6554-1646762400-1646766000@visiteidsfoss.no
SUMMARY:Foredrag på kroa på Kvinnedagen
DESCRIPTION:Kjekke jenter kan alt! Kvinnelige fotografer omkring 1900. \nI anledning kvinnedagen 8. mars og Skeivt kulturår 2022\, inviterer Vestfoldmuseene til digitalt og fysisk foredrag med Hanne Holm-Johnsen\, tidligere konservator på Preus fotomuseum\, på Gamle Eidsfos kro. \nUtover på 1800-tallet fikk kvinner flere og flere rettigheter til å forsørge seg selv. Folketellingen i 1900 viser at det var et stort overskudd kvinner. Kvinnene fant nye levemåter og nye yrker. Marie Høeg\, Bolette Berg\, Louise Wold og Otilde Solum ble fotografer i Horten og Holmestrand. De viser både gjennom sine bilder og sine liv at Norge var i forandring.
URL:https://visiteidsfoss.no/event/foredrag-pa-kroa-pa-kvinnedagen/
LOCATION:Bråtagata\, Gamle Eidsfos Kro
ATTACH;FMTTYPE=image/jpeg:https://visiteidsfoss.no/wp-content/uploads/2022/02/HO-A1751.jpg
END:VEVENT
END:VCALENDAR