BEGIN:VCALENDAR
VERSION:2.0
PRODID:-//Visit Eidsfoss - ECPv6.15.20//NONSGML v1.0//EN
CALSCALE:GREGORIAN
METHOD:PUBLISH
X-WR-CALNAME:Visit Eidsfoss
X-ORIGINAL-URL:https://visiteidsfoss.no
X-WR-CALDESC:Arrangement for Visit Eidsfoss
REFRESH-INTERVAL;VALUE=DURATION:PT1H
X-Robots-Tag:noindex
X-PUBLISHED-TTL:PT1H
BEGIN:VTIMEZONE
TZID:Europe/Oslo
BEGIN:DAYLIGHT
TZOFFSETFROM:+0100
TZOFFSETTO:+0200
TZNAME:CEST
DTSTART:20230326T010000
END:DAYLIGHT
BEGIN:STANDARD
TZOFFSETFROM:+0200
TZOFFSETTO:+0100
TZNAME:CET
DTSTART:20231029T010000
END:STANDARD
BEGIN:DAYLIGHT
TZOFFSETFROM:+0100
TZOFFSETTO:+0200
TZNAME:CEST
DTSTART:20240331T010000
END:DAYLIGHT
BEGIN:STANDARD
TZOFFSETFROM:+0200
TZOFFSETTO:+0100
TZNAME:CET
DTSTART:20241027T010000
END:STANDARD
BEGIN:DAYLIGHT
TZOFFSETFROM:+0100
TZOFFSETTO:+0200
TZNAME:CEST
DTSTART:20250330T010000
END:DAYLIGHT
BEGIN:STANDARD
TZOFFSETFROM:+0200
TZOFFSETTO:+0100
TZNAME:CET
DTSTART:20251026T010000
END:STANDARD
END:VTIMEZONE
BEGIN:VEVENT
DTSTART;TZID=Europe/Oslo:20240816T180000
DTEND;TZID=Europe/Oslo:20240816T210000
DTSTAMP:20260420T181745
CREATED:20240623T125020Z
LAST-MODIFIED:20240623T125020Z
UID:8428-1723831200-1723842000@visiteidsfoss.no
SUMMARY:Tour de France\, Vinsmakercruise v/sommelier Jon Terje Bruun
DESCRIPTION:Vi starter i Champagne rett etter avgang fra Vestfossen\, og drar deretter sydvest til Loire. Videre smaker vi syd til Bordeaux og øst til Rhonedalen\, før vi setter nesa nordover til Burgund og avslutter i nord i Alsace. Og da er vi også tilbake nord i Eikern. \nDet blir 6 helt forskjellige vindistrikt\, med store variasjoner i stil og smak\, men det gir et godt bilde av diversifiseringen av fransk vin mens vi flyter ned og opp igjen på vakre Eikern.. \nSiden det er sommer legges det mest vekt på lette viner\, derfor 1 musserende\, 1 rose\, 2 hvite og 2 røde. \nBilletter kjøpes her. \nBienvenue!
URL:https://visiteidsfoss.no/event/tour-de-france-vinsmakercruise-v-sommelier-jon-terje-bruun/
LOCATION:Vestfossen
END:VEVENT
END:VCALENDAR