BEGIN:VCALENDAR
VERSION:2.0
PRODID:-//Visit Eidsfoss - ECPv6.15.20//NONSGML v1.0//EN
CALSCALE:GREGORIAN
METHOD:PUBLISH
X-ORIGINAL-URL:https://visiteidsfoss.no
X-WR-CALDESC:Arrangement for Visit Eidsfoss
REFRESH-INTERVAL;VALUE=DURATION:PT1H
X-Robots-Tag:noindex
X-PUBLISHED-TTL:PT1H
BEGIN:VTIMEZONE
TZID:Europe/Oslo
BEGIN:DAYLIGHT
TZOFFSETFROM:+0100
TZOFFSETTO:+0200
TZNAME:CEST
DTSTART:20230326T010000
END:DAYLIGHT
BEGIN:STANDARD
TZOFFSETFROM:+0200
TZOFFSETTO:+0100
TZNAME:CET
DTSTART:20231029T010000
END:STANDARD
BEGIN:DAYLIGHT
TZOFFSETFROM:+0100
TZOFFSETTO:+0200
TZNAME:CEST
DTSTART:20240331T010000
END:DAYLIGHT
BEGIN:STANDARD
TZOFFSETFROM:+0200
TZOFFSETTO:+0100
TZNAME:CET
DTSTART:20241027T010000
END:STANDARD
BEGIN:DAYLIGHT
TZOFFSETFROM:+0100
TZOFFSETTO:+0200
TZNAME:CEST
DTSTART:20250330T010000
END:DAYLIGHT
BEGIN:STANDARD
TZOFFSETFROM:+0200
TZOFFSETTO:+0100
TZNAME:CET
DTSTART:20251026T010000
END:STANDARD
END:VTIMEZONE
BEGIN:VEVENT
DTSTART;TZID=Europe/Oslo:20240809T180000
DTEND;TZID=Europe/Oslo:20240809T210000
DTSTAMP:20260420T192205
CREATED:20240623T123740Z
LAST-MODIFIED:20240623T125349Z
UID:8421-1723226400-1723237200@visiteidsfoss.no
SUMMARY:Reker og allsang ved Odd Arne og Hans Olav
DESCRIPTION:Vårt populære rekecruise med utreise fra Vestfossen sentrum\, med to gode musikere som vil holde stemningen på topp fra avgang.\nOdd Arne Sørensen\, er en norsk trekkspiller\, pianist og plateprodusent. Norsk og nordisk mester i gammeldans som solist\, og norsk mester med gammeldansorkesteret Finnskogkvintetten. Han er nok mest kjent som trekkspilleren i dansebandet Ingemars. \nHans Olav Trøen\, er en norsk musiker\, bassist\, saksofonist og gitarist. Han er mest kjent som bassist og en av gründerne i bandet Vagabond i 2008. \nBillettprisen inkluderer reker og tilbehør. Vi har alle rettigheter i baren ombord.\n\nBilletter kjøper du her.\nVelkommen!
URL:https://visiteidsfoss.no/event/reker-og-allsang-ved-odd-arne-og-hans-olav/
LOCATION:Vestfossen
END:VEVENT
END:VCALENDAR