BEGIN:VCALENDAR
VERSION:2.0
PRODID:-//Visit Eidsfoss - ECPv6.15.20//NONSGML v1.0//EN
CALSCALE:GREGORIAN
METHOD:PUBLISH
X-ORIGINAL-URL:https://visiteidsfoss.no
X-WR-CALDESC:Arrangement for Visit Eidsfoss
REFRESH-INTERVAL;VALUE=DURATION:PT1H
X-Robots-Tag:noindex
X-PUBLISHED-TTL:PT1H
BEGIN:VTIMEZONE
TZID:Europe/Oslo
BEGIN:DAYLIGHT
TZOFFSETFROM:+0100
TZOFFSETTO:+0200
TZNAME:CEST
DTSTART:20230326T010000
END:DAYLIGHT
BEGIN:STANDARD
TZOFFSETFROM:+0200
TZOFFSETTO:+0100
TZNAME:CET
DTSTART:20231029T010000
END:STANDARD
BEGIN:DAYLIGHT
TZOFFSETFROM:+0100
TZOFFSETTO:+0200
TZNAME:CEST
DTSTART:20240331T010000
END:DAYLIGHT
BEGIN:STANDARD
TZOFFSETFROM:+0200
TZOFFSETTO:+0100
TZNAME:CET
DTSTART:20241027T010000
END:STANDARD
BEGIN:DAYLIGHT
TZOFFSETFROM:+0100
TZOFFSETTO:+0200
TZNAME:CEST
DTSTART:20250330T010000
END:DAYLIGHT
BEGIN:STANDARD
TZOFFSETFROM:+0200
TZOFFSETTO:+0100
TZNAME:CET
DTSTART:20251026T010000
END:STANDARD
END:VTIMEZONE
BEGIN:VEVENT
DTSTART;TZID=Europe/Oslo:20240719T180000
DTEND;TZID=Europe/Oslo:20240719T230000
DTSTAMP:20260420T165222
CREATED:20240623T111357Z
LAST-MODIFIED:20240623T111414Z
UID:8386-1721412000-1721430000@visiteidsfoss.no
SUMMARY:Konsert med Vise Menn
DESCRIPTION:Hver fredag i juli fylles hovedgården med levende musikk. Er det pent vær spiller artistene i den flotte hagen. \nDørene åpnes klokka 18.00 \nBilletter kan kjøpes her. \nDenne fredagen er det Vise Menn\, lokalt band fra Eidsfoss som spiller. \n«VISE MENN» består av; Are Holand\, Asle Bastholm\, Bjørn Berg\, Jarle Amundsen\, John Olafsen\, Tony J. Olsen og Fred Nordset
URL:https://visiteidsfoss.no/event/konsert-med-vise-menn/
LOCATION:Eidsfoss Hovedgård
END:VEVENT
END:VCALENDAR