BEGIN:VCALENDAR
VERSION:2.0
PRODID:-//Visit Eidsfoss - ECPv6.15.20//NONSGML v1.0//EN
CALSCALE:GREGORIAN
METHOD:PUBLISH
X-ORIGINAL-URL:https://visiteidsfoss.no
X-WR-CALDESC:Arrangement for Visit Eidsfoss
REFRESH-INTERVAL;VALUE=DURATION:PT1H
X-Robots-Tag:noindex
X-PUBLISHED-TTL:PT1H
BEGIN:VTIMEZONE
TZID:Europe/Oslo
BEGIN:DAYLIGHT
TZOFFSETFROM:+0100
TZOFFSETTO:+0200
TZNAME:CEST
DTSTART:20230326T010000
END:DAYLIGHT
BEGIN:STANDARD
TZOFFSETFROM:+0200
TZOFFSETTO:+0100
TZNAME:CET
DTSTART:20231029T010000
END:STANDARD
BEGIN:DAYLIGHT
TZOFFSETFROM:+0100
TZOFFSETTO:+0200
TZNAME:CEST
DTSTART:20240331T010000
END:DAYLIGHT
BEGIN:STANDARD
TZOFFSETFROM:+0200
TZOFFSETTO:+0100
TZNAME:CET
DTSTART:20241027T010000
END:STANDARD
BEGIN:DAYLIGHT
TZOFFSETFROM:+0100
TZOFFSETTO:+0200
TZNAME:CEST
DTSTART:20250330T010000
END:DAYLIGHT
BEGIN:STANDARD
TZOFFSETFROM:+0200
TZOFFSETTO:+0100
TZNAME:CET
DTSTART:20251026T010000
END:STANDARD
END:VTIMEZONE
BEGIN:VEVENT
DTSTART;TZID=Europe/Oslo:20240712T180000
DTEND;TZID=Europe/Oslo:20240712T230000
DTSTAMP:20260420T165233
CREATED:20240623T110301Z
LAST-MODIFIED:20240623T110301Z
UID:8382-1720807200-1720825200@visiteidsfoss.no
SUMMARY:Konsert med Trond Trudvang
DESCRIPTION:Dørene åpnes klokka 18.00 \nHver fredag i juli fylles Hovedgården med levende musikk. \nEr det pent vær spiller artistene i den flotte hagen. \nBilletter kan du kjøpe her. \nTrond Trudvang er blant våre fremste trubadurer. Han spiller meget godt og variert og har en lun sjarme som folk liker. \nTrond er musikant\, historieforteller\, låtskriver og –også plateartist med sin sang og gitar. Debutalbumet «Trond Trudvang» kom i 2010 og oppfølgeren «Gode Sko» i 2012. Album nr 3: «Sola i ryggen» ble utgitt i september 2015. Høsten 2022 ble hans siste innspilling «Doktor\, doktor» A-listet på NRK P1 hvilket betød tett med radiospilling til godt inn i 2023. \nMest profilert på riksdekkende radio er låtene er «Lisa\, Lisa» og «Houston vi har et problem» fra debutalbumet\, samt «Gråværstur» og «Ingenting e farlig» fra oppfølgeren. \n \nFoto: Svein Finneide fra artistens hjemmeside
URL:https://visiteidsfoss.no/event/konsert-med-trond-trudvang/
LOCATION:Eidsfoss Hovedgård
END:VEVENT
END:VCALENDAR