BEGIN:VCALENDAR
VERSION:2.0
PRODID:-//Visit Eidsfoss - ECPv6.15.20//NONSGML v1.0//EN
CALSCALE:GREGORIAN
METHOD:PUBLISH
X-ORIGINAL-URL:https://visiteidsfoss.no
X-WR-CALDESC:Arrangement for Visit Eidsfoss
REFRESH-INTERVAL;VALUE=DURATION:PT1H
X-Robots-Tag:noindex
X-PUBLISHED-TTL:PT1H
BEGIN:VTIMEZONE
TZID:Europe/Oslo
BEGIN:DAYLIGHT
TZOFFSETFROM:+0100
TZOFFSETTO:+0200
TZNAME:CEST
DTSTART:20230326T010000
END:DAYLIGHT
BEGIN:STANDARD
TZOFFSETFROM:+0200
TZOFFSETTO:+0100
TZNAME:CET
DTSTART:20231029T010000
END:STANDARD
BEGIN:DAYLIGHT
TZOFFSETFROM:+0100
TZOFFSETTO:+0200
TZNAME:CEST
DTSTART:20240331T010000
END:DAYLIGHT
BEGIN:STANDARD
TZOFFSETFROM:+0200
TZOFFSETTO:+0100
TZNAME:CET
DTSTART:20241027T010000
END:STANDARD
BEGIN:DAYLIGHT
TZOFFSETFROM:+0100
TZOFFSETTO:+0200
TZNAME:CEST
DTSTART:20250330T010000
END:DAYLIGHT
BEGIN:STANDARD
TZOFFSETFROM:+0200
TZOFFSETTO:+0100
TZNAME:CET
DTSTART:20251026T010000
END:STANDARD
END:VTIMEZONE
BEGIN:VEVENT
DTSTART;VALUE=DATE:20240614
DTEND;VALUE=DATE:20240617
DTSTAMP:20260420T163701
CREATED:20240530T212545Z
LAST-MODIFIED:20240530T212545Z
UID:8311-1718323200-1718582399@visiteidsfoss.no
SUMMARY:Sáráhkkas - Samisk urfolksfestival
DESCRIPTION:Sáráhkkás samisk urfolkfestival er et familievennlig rusfritt arrangement\, skapt i samarbeid med Holmestrand kommune og Sametinget. \nTEMA FOR FESTIVAL 2024: NOAIDEN \nSáráhkkás samisk urfolkfestival er et sted hvor mennesker møtes på tvers av kulturer\, i den menneskelige møteplassen: hjertet. Sáráhkká er kjærlighets- og fruktbarhetsgudinnen. Symbolsk tenner hun ild i enkeltpersonens hjerte for å hjelpe personen å komme i kontakt med personens egen kjærlighetskraft og sjelsbevissthet. \nSáráhkká er nært forbundet med dyrs og menneskers tilblivelse. Ved å fokusere på hennes kraft setter vi fokus på den gode kraften som er iboende alle. Slik kommer vi i harmoni med Moder Jord\, dyr\, planter og alt liv som er forbundet med skapelse og frembringelse. Slik skaper vi et liv i samklang med økologisk bevissthet. Slik kan vi leve i tråd med naturens verdigrunnlag. \n​ \nHvordan opplever dagens moderne menneske naturen? \nHvordan møter vår egen indre natur det ytre landskap? \n​ \nPå festivalen kan du dele dine erfaringer med andre. Her får du muligheten til å skape\, bring glede\, eller bare være i øyeblikket. Vi tilbyr musikk\, workshoper\, slagsboder\, økologisk mat\, fortellinger\, seminarer\, underholdning og foredrag. Du får også muligheten til å bli kjent med utstillere fra Norge og Sápmi\, samt fra urfolktradisjoner i andre land — alt fra sjamaner til artister\, utøvere og kunstnere. \n​ Vi ser frem til å møte deg. \n​Bures boahtin – velkommen! \nDette feirer og deler vi med et rikholdig og variert program over tre dager\, fullt program og billetter finner du her. \nBilder fra festivalen i fjor hentet fra Sáráhkkas festivalens egne sider.
URL:https://visiteidsfoss.no/event/sarahkkas-samisk-urfolksfestival-2/
LOCATION:Festivalområdet\, Hovedhuset\, Pusserstallen\, Paviljongen
ATTACH;FMTTYPE=image/jpeg:https://visiteidsfoss.no/wp-content/uploads/2024/05/441200377_924612356342297_2376223244864137950_n.jpg
END:VEVENT
BEGIN:VEVENT
DTSTART;VALUE=DATE:20240616
DTEND;VALUE=DATE:20240617
DTSTAMP:20260420T163701
CREATED:20240530T214432Z
LAST-MODIFIED:20240530T214432Z
UID:8322-1718496000-1718582399@visiteidsfoss.no
SUMMARY:Sommersprell med kulturskolen på Eidsfoss Hovedgård
DESCRIPTION:
URL:https://visiteidsfoss.no/event/sommersprell-med-kulturskolen-pa-eidsfoss-hovedgard/
LOCATION:Eidsfoss Hovedgård
END:VEVENT
BEGIN:VEVENT
DTSTART;TZID=Europe/Oslo:20240616T120000
DTEND;TZID=Europe/Oslo:20240616T160000
DTSTAMP:20260420T163701
CREATED:20240318T101052Z
LAST-MODIFIED:20240506T114422Z
UID:7895-1718539200-1718553600@visiteidsfoss.no
SUMMARY:Jernbanehistorisk seminar 16/6
DESCRIPTION:Jernbanehistoriskseminar på Eidsfoss jernverksmuseum \nTid: søndag 16.juni\, kl. 12.00 til ca. kl. 16.00 \nHvor: Eidsfoss jernverksmuseum\, «Snekkerverkstedet». Eidsfossveien 54\, 3095 Eidsfoss \nPris: kr. 100\,-. Billett kjøpes i Eidsfoss jernverksmuseum \nProgram: \nKl. 12.00-13.00: Bjørg Eva Aasen\, Norsk jernbanemuseum\, Hamar: «Narvesens aviskiosk fra 1921 – hvordan og hvorfor restaurere?» \nKl. 13.00-13.30: Museumsforeningen Vestfold privatbaner: «Restaurering av Narvesen-kiosken på Reidvintunet». \nKl. 13.30-14.30: Bent Ek\, Eiker historielag: «Vestfossen – stasjonsbyen ved Eikeren» \nKl. 14.30-15.00: Fred Nordseth: «Dampskipet Stadshauptmand Schwartz’ tid på Eikern» \nKl. 15.00-16.00: vi følger Fred bort til dampskipet for omvisning på båten. Varer så lenge det varer!
URL:https://visiteidsfoss.no/event/jernbanehistorisk-seminar-16-6/
LOCATION:Jernverksmuseet\, Snekkerverkstedet\, Eidsfossveien 54
ATTACH;FMTTYPE=image/jpeg:https://visiteidsfoss.no/wp-content/uploads/2024/03/Narvesenansatt-scaled.jpg
END:VEVENT
END:VCALENDAR