BEGIN:VCALENDAR
VERSION:2.0
PRODID:-//Visit Eidsfoss - ECPv6.15.20//NONSGML v1.0//EN
CALSCALE:GREGORIAN
METHOD:PUBLISH
X-ORIGINAL-URL:https://visiteidsfoss.no
X-WR-CALDESC:Arrangement for Visit Eidsfoss
REFRESH-INTERVAL;VALUE=DURATION:PT1H
X-Robots-Tag:noindex
X-PUBLISHED-TTL:PT1H
BEGIN:VTIMEZONE
TZID:Europe/Oslo
BEGIN:DAYLIGHT
TZOFFSETFROM:+0100
TZOFFSETTO:+0200
TZNAME:CEST
DTSTART:20230326T010000
END:DAYLIGHT
BEGIN:STANDARD
TZOFFSETFROM:+0200
TZOFFSETTO:+0100
TZNAME:CET
DTSTART:20231029T010000
END:STANDARD
BEGIN:DAYLIGHT
TZOFFSETFROM:+0100
TZOFFSETTO:+0200
TZNAME:CEST
DTSTART:20240331T010000
END:DAYLIGHT
BEGIN:STANDARD
TZOFFSETFROM:+0200
TZOFFSETTO:+0100
TZNAME:CET
DTSTART:20241027T010000
END:STANDARD
BEGIN:DAYLIGHT
TZOFFSETFROM:+0100
TZOFFSETTO:+0200
TZNAME:CEST
DTSTART:20250330T010000
END:DAYLIGHT
BEGIN:STANDARD
TZOFFSETFROM:+0200
TZOFFSETTO:+0100
TZNAME:CET
DTSTART:20251026T010000
END:STANDARD
END:VTIMEZONE
BEGIN:VEVENT
DTSTART;TZID=Europe/Oslo:20240308T180000
DTEND;TZID=Europe/Oslo:20240308T200000
DTSTAMP:20260420T165222
CREATED:20240229T074758Z
LAST-MODIFIED:20240229T091439Z
UID:7883-1709920800-1709928000@visiteidsfoss.no
SUMMARY:Foredrag om Hanna Winsnes 8/3 kl 18
DESCRIPTION:Foredrag på Kvinnedagen 8. mars på kroa kl 18\nI år markerer vi 8.mars på Eidsfoss med en kjent og kjær kvinneskikkelse fra husholdningshistorien. Inngang: 50\,- Kun vipps. \n«Hanna Winsnes ble født i Drammen i 1789. Hennes far var borgermester i byen. Hanna var med andre ord født inn i en bedrestilt embetsmannsfamilie. Ved farens død mistet familien sine inntekter\, og flyttet noe år til morens familie i København som var hun ulykkelig i hele sin barndom på grunn av sykdom og foreldrenes bortgang. Hanna var flere ganger på besøk på Eidsfoss hovedgård hos verkseierfamilien Cappelen.
URL:https://visiteidsfoss.no/event/foredrag-om-hanna-winsnes-8-3-kl-18/
LOCATION:Bråtagata\, Gamle Eidsfos Kro
END:VEVENT
END:VCALENDAR