BEGIN:VCALENDAR
VERSION:2.0
PRODID:-//Visit Eidsfoss - ECPv6.15.20//NONSGML v1.0//EN
CALSCALE:GREGORIAN
METHOD:PUBLISH
X-WR-CALNAME:Visit Eidsfoss
X-ORIGINAL-URL:https://visiteidsfoss.no
X-WR-CALDESC:Arrangement for Visit Eidsfoss
REFRESH-INTERVAL;VALUE=DURATION:PT1H
X-Robots-Tag:noindex
X-PUBLISHED-TTL:PT1H
BEGIN:VTIMEZONE
TZID:Europe/Oslo
BEGIN:DAYLIGHT
TZOFFSETFROM:+0100
TZOFFSETTO:+0200
TZNAME:CEST
DTSTART:20220327T010000
END:DAYLIGHT
BEGIN:STANDARD
TZOFFSETFROM:+0200
TZOFFSETTO:+0100
TZNAME:CET
DTSTART:20221030T010000
END:STANDARD
BEGIN:DAYLIGHT
TZOFFSETFROM:+0100
TZOFFSETTO:+0200
TZNAME:CEST
DTSTART:20230326T010000
END:DAYLIGHT
BEGIN:STANDARD
TZOFFSETFROM:+0200
TZOFFSETTO:+0100
TZNAME:CET
DTSTART:20231029T010000
END:STANDARD
BEGIN:DAYLIGHT
TZOFFSETFROM:+0100
TZOFFSETTO:+0200
TZNAME:CEST
DTSTART:20240331T010000
END:DAYLIGHT
BEGIN:STANDARD
TZOFFSETFROM:+0200
TZOFFSETTO:+0100
TZNAME:CET
DTSTART:20241027T010000
END:STANDARD
END:VTIMEZONE
BEGIN:VEVENT
DTSTART;TZID=Europe/Oslo:20230810T160000
DTEND;TZID=Europe/Oslo:20230810T170000
DTSTAMP:20260421T050635
CREATED:20230625T125010Z
LAST-MODIFIED:20230625T125258Z
UID:7691-1691683200-1691686800@visiteidsfoss.no
SUMMARY:Omvisning Eidsfos Hovedgård og hage
DESCRIPTION:Bli med på en spennende omvisning om vakre Eidsfoss hovedgård og hageanlegget. \nEidsfos Hovedgård er fra ca. 1750 – oppført i rokokko og fredet i 1922. Her har verkseiere og disponenter har hatt sin bolig i over 250 år. Det er lagt ned mange arbeidstimer for å gjenskape interiørene slik undersøkelser har gitt konservatorene fortellinger om hvordan rommene har sett ut til ulike tider. En vandring gjennom rommene på Eidsfoss Hovedgård er en reise gjennom flere tidsepoker og interiørhistorie. \nBillettpris kr 100\,- \nOmvisning med kurator Hilde Woxen Stormark
URL:https://visiteidsfoss.no/event/omvisning-eidsfos-hovedgard-og-hage/
LOCATION:Eidsfos Hovedgård\, oppmøte Snekkerverkstedet
END:VEVENT
END:VCALENDAR