BEGIN:VCALENDAR
VERSION:2.0
PRODID:-//Visit Eidsfoss - ECPv6.15.20//NONSGML v1.0//EN
CALSCALE:GREGORIAN
METHOD:PUBLISH
X-ORIGINAL-URL:https://visiteidsfoss.no
X-WR-CALDESC:Arrangement for Visit Eidsfoss
REFRESH-INTERVAL;VALUE=DURATION:PT1H
X-Robots-Tag:noindex
X-PUBLISHED-TTL:PT1H
BEGIN:VTIMEZONE
TZID:Europe/Oslo
BEGIN:DAYLIGHT
TZOFFSETFROM:+0100
TZOFFSETTO:+0200
TZNAME:CEST
DTSTART:20220327T010000
END:DAYLIGHT
BEGIN:STANDARD
TZOFFSETFROM:+0200
TZOFFSETTO:+0100
TZNAME:CET
DTSTART:20221030T010000
END:STANDARD
BEGIN:DAYLIGHT
TZOFFSETFROM:+0100
TZOFFSETTO:+0200
TZNAME:CEST
DTSTART:20230326T010000
END:DAYLIGHT
BEGIN:STANDARD
TZOFFSETFROM:+0200
TZOFFSETTO:+0100
TZNAME:CET
DTSTART:20231029T010000
END:STANDARD
BEGIN:DAYLIGHT
TZOFFSETFROM:+0100
TZOFFSETTO:+0200
TZNAME:CEST
DTSTART:20240331T010000
END:DAYLIGHT
BEGIN:STANDARD
TZOFFSETFROM:+0200
TZOFFSETTO:+0100
TZNAME:CET
DTSTART:20241027T010000
END:STANDARD
END:VTIMEZONE
BEGIN:VEVENT
DTSTART;TZID=Europe/Oslo:20230727T160000
DTEND;TZID=Europe/Oslo:20230727T170000
DTSTAMP:20260421T063702
CREATED:20230624T122139Z
LAST-MODIFIED:20230624T122139Z
UID:7654-1690473600-1690477200@visiteidsfoss.no
SUMMARY:Jernbanehistorisk omvisning
DESCRIPTION:Eidsfoss verk var en aktiv medspiller til utviklingen av jernbanen i Norge på slutten av 1800-tallet. Bli med på omvisning og historiefortelling om maktkampene og de store økonomiske spillene som gjorde Eidsfoss Verk til en av de viktige deltakerne i godstransport på jernbane over hele landet\, og hvordan det påvirket det lille samfunnet på Eidsfoss etter at masovnen ble slukket for siste gang. \nOppmøte «Snekkerverkstedet»\, Eidsfoss Jernverksmuseum \n27. juli 2023 \nkl. 16.00 – 17.00 \nBillettpris kr 100\,- \nOmvisning ved Kasper Søyland
URL:https://visiteidsfoss.no/event/jernbanehistorisk-omvisning/
LOCATION:Jernverksmuseet\, Snekkerverkstedet\, Eidsfossveien 54
END:VEVENT
END:VCALENDAR