BEGIN:VCALENDAR
VERSION:2.0
PRODID:-//Visit Eidsfoss - ECPv6.15.20//NONSGML v1.0//EN
CALSCALE:GREGORIAN
METHOD:PUBLISH
X-ORIGINAL-URL:https://visiteidsfoss.no
X-WR-CALDESC:Arrangement for Visit Eidsfoss
REFRESH-INTERVAL;VALUE=DURATION:PT1H
X-Robots-Tag:noindex
X-PUBLISHED-TTL:PT1H
BEGIN:VTIMEZONE
TZID:Europe/Oslo
BEGIN:DAYLIGHT
TZOFFSETFROM:+0100
TZOFFSETTO:+0200
TZNAME:CEST
DTSTART:20220327T010000
END:DAYLIGHT
BEGIN:STANDARD
TZOFFSETFROM:+0200
TZOFFSETTO:+0100
TZNAME:CET
DTSTART:20221030T010000
END:STANDARD
BEGIN:DAYLIGHT
TZOFFSETFROM:+0100
TZOFFSETTO:+0200
TZNAME:CEST
DTSTART:20230326T010000
END:DAYLIGHT
BEGIN:STANDARD
TZOFFSETFROM:+0200
TZOFFSETTO:+0100
TZNAME:CET
DTSTART:20231029T010000
END:STANDARD
BEGIN:DAYLIGHT
TZOFFSETFROM:+0100
TZOFFSETTO:+0200
TZNAME:CEST
DTSTART:20240331T010000
END:DAYLIGHT
BEGIN:STANDARD
TZOFFSETFROM:+0200
TZOFFSETTO:+0100
TZNAME:CET
DTSTART:20241027T010000
END:STANDARD
END:VTIMEZONE
BEGIN:VEVENT
DTSTART;TZID=Europe/Oslo:20230714T180000
DTEND;TZID=Europe/Oslo:20230714T200000
DTSTAMP:20260421T063644
CREATED:20230624T120249Z
LAST-MODIFIED:20230707T141346Z
UID:7650-1689357600-1689364800@visiteidsfoss.no
SUMMARY:Gratis konsert med Simon Moholt & Pilgrim
DESCRIPTION:Konserten starter klokka 18.00 \nBandet er norsk tekstbasert band med låter som tar lytterne med seg på en reflektert reise gjennom livet med mange metaforer og filosofiske tanker. Simon Moholt & Pilgrim leverer alltid shows med mye energi\, mystikk og lidenskap. I 2018 gikk Simon den 270 km lange pilgrimsturen til Santiago de Compostela for inspirasjon til sitt fremtidige band og prosjektet nå kalt Pilgrim. \nOm arrangøren: Cult Kaos er et management\, brand\, produksjons- og distribusjonsselskap\, samt en kreativ familie. Cult Kaos er et evig utviklende brand som representerer 12 artister og har siden starten gitt ut 8 album\, 11 singler\, 23 musikkvideoer\, 4 kleskolleksjoner og holdt 13 Cultshows. Cult Kaos skaper kontinuerlig nytt video- og konsert-materiale\, samt produserer en løpende intervju serie kalt CULTV. \nEt krav i Cult Kaos er at du jobber med det du har lidenskap for\, med det blir engasjementet og kvaliteten bedre\, dette er noe vi tar med oss i alle ledd i organisasjonen vår\, og grunnen til at vi skiller oss ut i fra mengden. Med en visjon om å være ansiktet til selvtillit\, frihet\, kjærlighet og innfridde drømmer jobber vi mot verdensherredømme og å være det ledende kunstnerisk kollektivet i kulturbransjen. Vi er stolte av å representere artister og kunstnere som lever for å leverer verk av høy kunstnerisk kvalitet\, med stor lidenskap og mye dedikasjon til arbeidet vårt. \n  \nhttps://www.cultkaos.com/ \n 
URL:https://visiteidsfoss.no/event/konsert-med-cult-kaos-hovedgarden/
LOCATION:Eidsfoss Hovedgård
END:VEVENT
END:VCALENDAR