BEGIN:VCALENDAR
VERSION:2.0
PRODID:-//Visit Eidsfoss - ECPv6.15.20//NONSGML v1.0//EN
CALSCALE:GREGORIAN
METHOD:PUBLISH
X-ORIGINAL-URL:https://visiteidsfoss.no
X-WR-CALDESC:Arrangement for Visit Eidsfoss
REFRESH-INTERVAL;VALUE=DURATION:PT1H
X-Robots-Tag:noindex
X-PUBLISHED-TTL:PT1H
BEGIN:VTIMEZONE
TZID:Europe/Oslo
BEGIN:DAYLIGHT
TZOFFSETFROM:+0100
TZOFFSETTO:+0200
TZNAME:CEST
DTSTART:20220327T010000
END:DAYLIGHT
BEGIN:STANDARD
TZOFFSETFROM:+0200
TZOFFSETTO:+0100
TZNAME:CET
DTSTART:20221030T010000
END:STANDARD
BEGIN:DAYLIGHT
TZOFFSETFROM:+0100
TZOFFSETTO:+0200
TZNAME:CEST
DTSTART:20230326T010000
END:DAYLIGHT
BEGIN:STANDARD
TZOFFSETFROM:+0200
TZOFFSETTO:+0100
TZNAME:CET
DTSTART:20231029T010000
END:STANDARD
BEGIN:DAYLIGHT
TZOFFSETFROM:+0100
TZOFFSETTO:+0200
TZNAME:CEST
DTSTART:20240331T010000
END:DAYLIGHT
BEGIN:STANDARD
TZOFFSETFROM:+0200
TZOFFSETTO:+0100
TZNAME:CET
DTSTART:20241027T010000
END:STANDARD
END:VTIMEZONE
BEGIN:VEVENT
DTSTART;TZID=Europe/Oslo:20230713T180000
DTEND;TZID=Europe/Oslo:20230713T200000
DTSTAMP:20260421T064404
CREATED:20230624T115158Z
LAST-MODIFIED:20230624T115301Z
UID:7645-1689271200-1689278400@visiteidsfoss.no
SUMMARY:Rallarblod - Filmvisning
DESCRIPTION:Filmvisning på Eidsfoss jernverksmuseum 13. juli kl. 18.00 – 20.00\nBillettpris kr. 100\,- \n  \nNorsk spillefilm fra 1979\, med mange kjente norske skuespillere. Handlingen utspiller seg i en rik jordbruksbygd et sted i Norge i tiden rundt 1910. Det skal legges jernbane gjennom bygda\, og tilreisende anleggsfolk\, rallare\, kommer dit. Med rallarne følger uro for bygdefolket. Disse røffe karene er kjent for sitt ville og frie liv med slåssing og drikking\, og ikke minst for sin kvinnfolktekke. En av rallarne\, Sjugur Rambern\, skiller seg ut fra de andre. Han lar seg ikke kue av bygdfolkets skrå blikk eller av jernbaneingeniørenes viktige miner. Blodet banker hett i mang en jentekropp for Sjugur\, men han vil ha storbondedatteren Innbranna Røysing. Et intenst kjærlighetsforhold vokser frem mellom dem\, og de har styrke til å ta opp kampen for sin rett til å være sammen\, tross motstanden fra Innbrannas far og bygdefolkets fordommer.
URL:https://visiteidsfoss.no/event/rallarblod-filmvisning/
LOCATION:Jernverksmuseet\, Snekkerverkstedet\, Eidsfossveien 54
END:VEVENT
END:VCALENDAR