BEGIN:VCALENDAR
VERSION:2.0
PRODID:-//Visit Eidsfoss - ECPv6.15.20//NONSGML v1.0//EN
CALSCALE:GREGORIAN
METHOD:PUBLISH
X-ORIGINAL-URL:https://visiteidsfoss.no
X-WR-CALDESC:Arrangement for Visit Eidsfoss
REFRESH-INTERVAL;VALUE=DURATION:PT1H
X-Robots-Tag:noindex
X-PUBLISHED-TTL:PT1H
BEGIN:VTIMEZONE
TZID:Europe/Oslo
BEGIN:DAYLIGHT
TZOFFSETFROM:+0100
TZOFFSETTO:+0200
TZNAME:CEST
DTSTART:20220327T010000
END:DAYLIGHT
BEGIN:STANDARD
TZOFFSETFROM:+0200
TZOFFSETTO:+0100
TZNAME:CET
DTSTART:20221030T010000
END:STANDARD
BEGIN:DAYLIGHT
TZOFFSETFROM:+0100
TZOFFSETTO:+0200
TZNAME:CEST
DTSTART:20230326T010000
END:DAYLIGHT
BEGIN:STANDARD
TZOFFSETFROM:+0200
TZOFFSETTO:+0100
TZNAME:CET
DTSTART:20231029T010000
END:STANDARD
BEGIN:DAYLIGHT
TZOFFSETFROM:+0100
TZOFFSETTO:+0200
TZNAME:CEST
DTSTART:20240331T010000
END:DAYLIGHT
BEGIN:STANDARD
TZOFFSETFROM:+0200
TZOFFSETTO:+0100
TZNAME:CET
DTSTART:20241027T010000
END:STANDARD
END:VTIMEZONE
BEGIN:VEVENT
DTSTART;TZID=Europe/Oslo:20230704T180000
DTEND;TZID=Europe/Oslo:20230704T210000
DTSTAMP:20260421T064348
CREATED:20230624T122850Z
LAST-MODIFIED:20230624T122954Z
UID:7656-1688493600-1688504400@visiteidsfoss.no
SUMMARY:Strikkecruise fra Eidsfoss
DESCRIPTION:Strikkecruise med Smak av Eiker \nSeiler fra Eidsfoss klokka 18.00 -21.00 \nServering av lokalmat fra Eiker \nRetur Eidsfoss \nBestill billetter på: https://mseikern.no/vare-turer/
URL:https://visiteidsfoss.no/event/strikkecruise-fra-eidsfoss/
LOCATION:Eidsfoss/ Kølabånn
END:VEVENT
END:VCALENDAR