BEGIN:VCALENDAR
VERSION:2.0
PRODID:-//Visit Eidsfoss - ECPv6.15.20//NONSGML v1.0//EN
CALSCALE:GREGORIAN
METHOD:PUBLISH
X-WR-CALNAME:Visit Eidsfoss
X-ORIGINAL-URL:https://visiteidsfoss.no
X-WR-CALDESC:Arrangement for Visit Eidsfoss
REFRESH-INTERVAL;VALUE=DURATION:PT1H
X-Robots-Tag:noindex
X-PUBLISHED-TTL:PT1H
BEGIN:VTIMEZONE
TZID:Europe/Oslo
BEGIN:DAYLIGHT
TZOFFSETFROM:+0100
TZOFFSETTO:+0200
TZNAME:CEST
DTSTART:20220327T010000
END:DAYLIGHT
BEGIN:STANDARD
TZOFFSETFROM:+0200
TZOFFSETTO:+0100
TZNAME:CET
DTSTART:20221030T010000
END:STANDARD
BEGIN:DAYLIGHT
TZOFFSETFROM:+0100
TZOFFSETTO:+0200
TZNAME:CEST
DTSTART:20230326T010000
END:DAYLIGHT
BEGIN:STANDARD
TZOFFSETFROM:+0200
TZOFFSETTO:+0100
TZNAME:CET
DTSTART:20231029T010000
END:STANDARD
BEGIN:DAYLIGHT
TZOFFSETFROM:+0100
TZOFFSETTO:+0200
TZNAME:CEST
DTSTART:20240331T010000
END:DAYLIGHT
BEGIN:STANDARD
TZOFFSETFROM:+0200
TZOFFSETTO:+0100
TZNAME:CET
DTSTART:20241027T010000
END:STANDARD
END:VTIMEZONE
BEGIN:VEVENT
DTSTART;VALUE=DATE:20230623
DTEND;VALUE=DATE:20230625
DTSTAMP:20260421T081354
CREATED:20230612T105252Z
LAST-MODIFIED:20230612T105252Z
UID:7537-1687478400-1687651199@visiteidsfoss.no
SUMMARY:Eidsfossfestivalen
DESCRIPTION:
URL:https://visiteidsfoss.no/event/eidsfossfestivalen-3/
LOCATION:Festivalområdet\, Plasseskogen\, Hof kommune\, 3095
END:VEVENT
BEGIN:VEVENT
DTSTART;TZID=Europe/Oslo:20230624T140000
DTEND;TZID=Europe/Oslo:20230624T170000
DTSTAMP:20260421T081354
CREATED:20230624T112956Z
LAST-MODIFIED:20230624T113819Z
UID:7634-1687615200-1687626000@visiteidsfoss.no
SUMMARY:Blueslunsj på Kroa
DESCRIPTION:Roosterhouse Gumbo band spiller  fra klokka 14.00 til 17.00. Cover
URL:https://visiteidsfoss.no/event/7634/
LOCATION:Bråtagata\, Gamle Eidsfos Kro
END:VEVENT
END:VCALENDAR