BEGIN:VCALENDAR
VERSION:2.0
PRODID:-//Visit Eidsfoss - ECPv6.15.20//NONSGML v1.0//EN
CALSCALE:GREGORIAN
METHOD:PUBLISH
X-WR-CALNAME:Visit Eidsfoss
X-ORIGINAL-URL:https://visiteidsfoss.no
X-WR-CALDESC:Arrangement for Visit Eidsfoss
REFRESH-INTERVAL;VALUE=DURATION:PT1H
X-Robots-Tag:noindex
X-PUBLISHED-TTL:PT1H
BEGIN:VTIMEZONE
TZID:Europe/Oslo
BEGIN:DAYLIGHT
TZOFFSETFROM:+0100
TZOFFSETTO:+0200
TZNAME:CEST
DTSTART:20210328T010000
END:DAYLIGHT
BEGIN:STANDARD
TZOFFSETFROM:+0200
TZOFFSETTO:+0100
TZNAME:CET
DTSTART:20211031T010000
END:STANDARD
BEGIN:DAYLIGHT
TZOFFSETFROM:+0100
TZOFFSETTO:+0200
TZNAME:CEST
DTSTART:20220327T010000
END:DAYLIGHT
BEGIN:STANDARD
TZOFFSETFROM:+0200
TZOFFSETTO:+0100
TZNAME:CET
DTSTART:20221030T010000
END:STANDARD
BEGIN:DAYLIGHT
TZOFFSETFROM:+0100
TZOFFSETTO:+0200
TZNAME:CEST
DTSTART:20230326T010000
END:DAYLIGHT
BEGIN:STANDARD
TZOFFSETFROM:+0200
TZOFFSETTO:+0100
TZNAME:CET
DTSTART:20231029T010000
END:STANDARD
END:VTIMEZONE
BEGIN:VEVENT
DTSTART;TZID=Europe/Oslo:20220624T180000
DTEND;TZID=Europe/Oslo:20220625T233000
DTSTAMP:20260425T231926
CREATED:20220429T104001Z
LAST-MODIFIED:20220429T104001Z
UID:6962-1656093600-1656199800@visiteidsfoss.no
SUMMARY:Eidsfossfestivalen 24-25 juni
DESCRIPTION:Eidsfossfestivalen\nEndelig blir det festival på Eidsfoss igjen\, UTEN restriksjoner. På scenen står Di Derre\, Terje Tysland og Stavangerkameratene m. fl. På lørdag kl. 12 er det Barnival.  Billetter får du her. \n \nEidsfossfestivalen arrangeres for\n32. gang\, på flunkende nye scene ved\nEikern. Artister 2022:\n\nMIKE ANDERSEN (DK)\nSTAVANGERKAMERATENE\nLOVESHACK\nTERJE TYSLAND\nALEKSANDER KRISTOFFERSEN\nDI DERRE\nBARNIVALEN-REVEROCKERNE\nLørdag kl. 12-13.30 (Gratis)\nBilletter:\nHelgepass kr. 1050\,-\nDagspass fredag kr. 550\,-\nDagspass lørdag kr. 650\,-
URL:https://visiteidsfoss.no/event/eidsfossfestivalen-24-25-juni/
LOCATION:Festivalområdet\, Plasseskogen\, Hof kommune\, 3095
END:VEVENT
END:VCALENDAR