BEGIN:VCALENDAR
VERSION:2.0
PRODID:-//Visit Eidsfoss - ECPv6.15.20//NONSGML v1.0//EN
CALSCALE:GREGORIAN
METHOD:PUBLISH
X-ORIGINAL-URL:https://visiteidsfoss.no
X-WR-CALDESC:Arrangement for Visit Eidsfoss
REFRESH-INTERVAL;VALUE=DURATION:PT1H
X-Robots-Tag:noindex
X-PUBLISHED-TTL:PT1H
BEGIN:VTIMEZONE
TZID:Europe/Oslo
BEGIN:DAYLIGHT
TZOFFSETFROM:+0100
TZOFFSETTO:+0200
TZNAME:CEST
DTSTART:20210328T010000
END:DAYLIGHT
BEGIN:STANDARD
TZOFFSETFROM:+0200
TZOFFSETTO:+0100
TZNAME:CET
DTSTART:20211031T010000
END:STANDARD
BEGIN:DAYLIGHT
TZOFFSETFROM:+0100
TZOFFSETTO:+0200
TZNAME:CEST
DTSTART:20220327T010000
END:DAYLIGHT
BEGIN:STANDARD
TZOFFSETFROM:+0200
TZOFFSETTO:+0100
TZNAME:CET
DTSTART:20221030T010000
END:STANDARD
BEGIN:DAYLIGHT
TZOFFSETFROM:+0100
TZOFFSETTO:+0200
TZNAME:CEST
DTSTART:20230326T010000
END:DAYLIGHT
BEGIN:STANDARD
TZOFFSETFROM:+0200
TZOFFSETTO:+0100
TZNAME:CET
DTSTART:20231029T010000
END:STANDARD
END:VTIMEZONE
BEGIN:VEVENT
DTSTART;VALUE=DATE:20220617
DTEND;VALUE=DATE:20220620
DTSTAMP:20260425T232151
CREATED:20220420T091546Z
LAST-MODIFIED:20220525T091042Z
UID:6927-1655424000-1655683199@visiteidsfoss.no
SUMMARY:Sáráhkkás - Samisk urfolksfestival 17-19 juni
DESCRIPTION:Konserter og aktiviteter for hele familien\nPå Urfolksfestivalen Sarahkkas er det masse som skjer. Det blir utstillere\, konserter med Mari Boine\, Sara Marielle Gaup Beaska og Elin Kåven og Rohta. Det blir også workshops\, seremonier\, verksted for små og store\, barneparade\, kunst og håndverk\, kanopadling og økologisk mat. Se program lenger ned. \nFestivalen er gratis for barn fra 0-12 år  (gjelder ikke konsert) \nBilletter fås her. \nFestivalen er et rusfritt arrangement \n​ \n\n\n\nFredag 17.06\nProgram\nSted\nOppmøte\n\n\n\n10:00-17:00\nKanotur for hele familien\nEikern-vannet\n10:00\n\n\n\n10:00-11.00\nWorkshop\nRituell naturvandring\nSamisk sjaman Astrid Olsen\nOppmøte ved Badet\n09:45\n\n\n\n11:00-12:00\nForedrag\nOm sjamanisme Sápmi og gammel samisk/urfolks livssyn\nSamisk sjaman Jungle Svonni\nPusserstallen\n10:45\n\n\n\n11:00:13:00\nWorkshop\nUrtevandring samiske planter til mat og medisin\nMai Løvaas\nOppmøte ved Badet\n10:45\n\n\n\n11:00-13:00\nWorkshop\nÅ komme i «sjamanmodus»\, egenhealing\, meditasjon og trommereise\nØyvind Martinsen Forfatter og sjaman\nSandviken ved gapahukområdet\n10:45\n\n\n\n12:30-13:05\nForedrag\n«Hidden pure lands»\nPilegrimsreisen i urørt landskap Bhutan og Øst Tibet\nMultikunstner og yogi Jørgen Nøvik\nPusserstallen\n12:15\n\n\n\n12:15-13:15\nRitualer\nUrdans\nLisa Venema\nVed Eikern-vannet venstre for scenen\n12:00\n\n\n\n13:15-13:45\nSeremoni\nSarahkkas kjærlighetsseremoni og\nv/ Astrid I Swart\nVed Eikern-vannet venstre for scenen\n13:00\n\n\n\n14:00-15:30\nWorkshop\nSamisk tankeunivers\nNaturens elementer\nSamisk sjaman Per Inge Østmoen\nBak pusserstallen rundt ildstedet\n13:45\n\n\n\n14:00- 15:30\nRitualer\nIndisk dans håndbevegelser og ansiktsuttrykk\nRicha Sandra\nVed Eikern-vannet venstre for scenen\n13:45\n\n\n\n15:00-17:00\nVerksted\nSkrivekurs\nKatrine Hjulstad\nPåmelding:\nEpost: katrineborealis@gmail.com\nPå Badet\n14:45\n\n\n\n16:00-17:00\nWorkshop\nSamisk naturforståelse\nTrommereise\nSamisk sjaman Jungle Svonni\nVed Eikern-vannet venstre for scenen\n15:45\n\n\n\n16:00-17:00\nBokbad\n«Sevjefallet»\nNaturnær historisk og biografisk roman Snåsa 1700-tallet\nForfatter Hilde Aga Brun\nI Hallen\n15:45\n\n\n\n16:00-17:45\nBarneverksted\nKreative forberedelser til barneparaden\, tegning\, maling\, lage masker\, øving oppvarming med mer m/ Julie Vega Kulturskolen\nBarneparken\nDet er viktig barn som er besøkende på festival har med seg en voksen om de er under 10år\, eller eldre og har behov for hjelp på noe vis.\n15:30\n\n\n\n18:00-19:30\nÅpningsseremoni\nHovedscenen\n17:30\n\n\n\n18:00-18:15\nBarneparaden er delt i fire tog. Elementparaden er en hyllest til naturen og elementene rundt oss\nMáre Helander konferansier under åpningsseremonien\n\n\n\n\n18:15-18:20\nJoik åpn. Mikkel Gaup\n\n\n\n\n\n18:20-18:25\nÅpningstale Astrid Swart\n\n\n\n\n\n18:25-18:30\nTale\n\n\n\n\n\n18:30-18:35\nSollaug Sargon samisk poet forfatter dikt fremføring\n\n\n\n\n\n18:35-18:40\nTale\n\n\n\n\n\n18:40-18:50\nMusikalsk innslag til Moder Jord og barna\n\n\n\n\n\n18:50-19:05\nLesing av visdomsord\n\n\n\n\n\n19:05- 19:15\nMusikalsk innslag\n\n\n\n\n\n19:15-19:25\nUtdeling av årets Sarahkkas kjærlighetspris\n\n\n\n\n\n19:25-19:30 \nTenning av ild til ære for Sarahkkas og Moder Jord\n\n\n\n\n\n \nPause og rigging av scenen\n\n\n\n\n\n20:00-20:30\nKonsert\nMaria og Yendini\n\n\n\n\n\n21:00-22:15\nKonsert\nMari Boine med band\n\n\n\n\n\n23:00\nNedrigging\n\n\n\n\n\n\n  \n\n\n\nLørdag 18.06\nProgram\nSted\nOppmøte\n\n\n10:00-16:00\nKanotur for hele familien\n\n10:00\n\n\n10:00-12:00\nWorkshop\nBrita Pollan\nForfatter og religionshistoriker\nSamles bak pusserstallen rundt ildstedet\n09:45\n\n\n10:00-13:00 \nVerksted\nLag din egen tromme av reinsdyrskinn\nSjaman Gro Eilefsen\nPåmelding: \nEpost: gro-eile@online.no\nPusserstallen\n09:45\n\n\n10:00-13:00\nVerksted for små og store\nLag din egen rasle av reinsdyrskinn\nRaslekurs Margit Berg\nPåmelding:\nEpost: post@sarahkkas.com\nPusserstallen\n09:45\n\n\n10:00-12:15\nWorkshop\nUrtevandring\nJacob Roots\nOppmøte ved Badet\n09:45\n\n\n11:00-12:00 \nRitualer\nUrdans Lisa Venema\nVed Hallen\n10:45\n\n\n11:30-12:30\nBarneforestilling\nRisten og Ánte\nMikkel Gaup\nPaviljong lund\n11:15\n\n\n12:00-13:00\nWorkshop\n«Hvordan få tak i din indre kraftkilde»\nEster forteller hvordan hun har bygd opp sine bedrifter med hjelp av åndeverden og ved å stole på ikke vær bekymret-  Ále moraš\nSamisk sjaman Ester Utsi\nBak pusserstallen rundt ildstedet\n11:45\n\n\n12:00-14:00\nRitualer\nRituell skogsbad- vandring\nSilje Kvalheim\nOppmøte ved badet\n11:45\n\n\n12:00:12:30 \n \nSeremoni\nSkape positive forbindelser til natur og naturånder\nMultikunstner og yogi Jørgen Nøvik\nVed Eikern-vannet venstre for scenen\n11:45\n\n\n12:00-14:00\nWorkshop\nÅ komme i «sjamanmodus»\, egenhealing\, meditasjon og trommereise\nØyvind Martinsen Forfatter og sjaman\nSandviken ved Gapahukområdet\n11:45\n\n\n13:00-15:00\nVerksted\nJoikekurs. Hva er joik? Hvem kan utføre en joik?\nMikkel Gaup\nHovedscenen\n12:45\n\n\n13:30-14:30\nForedrag\nDyrekommunikasjon-\nslik kan vi forstå dyrene bedre\nDyretolk Sissel Grana\nPusserstallen\n13:15\n\n\n14:00-14:40\nBarneforestilling\nSpist eller bli spist\nm/ Julie Vega\nPaviljong lund\n13:45\n\n\n15:00-16:00\nForedrag\nHistorisk foredrag om Helleristningene i Alta\nSamisk sjaman Per Inge Østmoen\nPusserstallen\n14:45\n\n\n15:00- 17:00\nWorkshop\nSjamanisme og seremonier gir kraft til å møte hverdagen\nSamisk sjaman Eirik Myrhaug\nVed Eikern-vannet venstre for scenen\n14:45\n\n\n15:45-16:45\nWorkshop\nArven fra vikingene\nKarin Flatøy\nBak pusserstallen ved ildstedet\n15:30\n\n\n17:00-17:45\nSeremoni\nVannseremoni\nSjaman Jorunn Flataa\nVed Eikern-vannet venstre for scenen\n16:45\n\n\n19:00-20:00\nKonsert\nSara Marielle Gaup\nHovedscenen\n\n\n\n20:00-21:30\nKonsert\nElin Kåven m/ Ròhta band\nHovedscenen\n\n\n\n22:00-23:30\nKonsert\nChakra band\nHoved scenen\n\n\n\n23:30-00:00\nTrommesirkel\nRicardo og Luis\n\n\n\n\n \n\n\n\n\n\nSøndag 19.06\nProgram \nSted\nOppmøte \n\n\n10:00-10:45\nRitualer\nChød er en kraftfull tantrisk healing med chanting og mantraer Jørgen Nøvik Multikunstner og yogi\nVed Eikern-vannet venstre for scenen\n09:45\n\n\n10:00-13:00\nVerksted\nLag din egen tromme av reinsdyrskinn\nSjaman Gro Eilefsen\nPåmelding:\nEpost: gro-eile@online.no\nPusserstallen\n09:45\n\n\n10:00-13:00\nVerksted for små og store\nLag din egen rasle av reinsdyrskinn\nRaslekurs Margit Berg\nPåmelding:\nEpost:  post@sarahkkas.com\nPusserstallen\n09:45\n\n\n10:00-12:00\nWorkshop\nÅ komme i «sjamanmodus»\, egenhealing\, meditasjon og trommereise\nØyvind Martinsen Forfatter og sjaman\nSandviken ved gapahuk\n09.45\n\n\n10:00-12:00 \nRItualer\nRituell skogsbad -vandring\nSilje Kvalheim\nSamles ved Badet\n09:45\n\n\n11:00:13:00\nWorkshop\nSamisk kultur\, levemåte\, selvberging og tradisjoner\navsluttes med trommereise\nSamisk sjaman Jungle Svonni\nBak pusserstallen rundt ildstedet\n10:45\n\n\n11:30-12:10\nBarneforestilling\nSpist eller bli spist\nm/ Julie Vega\nPaviljong lund\n11:15\n\n\n11:30-12:30\nRitualer\nRituell urdans\nLisa Venema\nVed Eikern-vannet venstre for scenen\n11:15\n\n\n12:00-13:30\nRitualer\nStillereise med sjamanstav\nSjaman Jorun Flaata\nSandviken gapahukområdet\n11:45\n\n\n12:30-13:05\nBarneforestilling\nJakten på Nordlyset samisk kultur ispedd med opera\, trommereise\nGjøril Songvoll\, Máre Helander\, Dorani Komani\, Astrid I. Swart\nI Hallen\n12:15\n\n\n13:00-15:00\nWorkshop\nPlantemeditasjon med medisinske planter\nTa gjerne med din egen kopp Mai Løvaas\nSandviken gapahukområdet\n12:45\n\n\n13:15-14:15\nForedrag\nKraftdyr og sjamanisme\nDyretolk Sissel Grana\nPusserstallen\n13:00\n\n\n14:30-16:00\nForedrag\nReinens rike. Naturens mange verdener: Avsluttes med trommereise\nForfatter Poiana Geitanger\nPusserstallen\n14:15\n\n\n14:00-14:40\nBarneforestilling\nSørsamisk eventyrfortelling og stallodansen\, for barn over 3 år\nKulturformidler Máre Helander\nPaviljonglund\n13:45\n\n\n14:00-16:00\nForedrag\nDen gamle samiske måten å drive reindrift på. Refleksjon og nærhet til naturen\nSamisk sjaman Esther Utsi\nPusserstallen\n13:45\n\n\n14:30-15:45\nWorkshop\nTrommereise inn i ditt eget indre\, mytologilandskapet\nMøt ditt kraftdyr\n\n14:15\n\n\n16:00-17:00\nSommersolverv seremoni feires på forskudd med sjamaner\nVed Eikern-vannet venstre for scenen\n15:45\n\n\n17:00-18:00\nAvslutningsseremoni\nVerdens trommesirkel\nVed hovedscenen\n16:45\n\n\n18:00\nFestivalen avsluttes for i år\n\n\n\n\n\n  \n 
URL:https://visiteidsfoss.no/event/sarahkkas-samisk-urfolksfestival/
LOCATION:Festivalområdet\, Plasseskogen\, Hof kommune\, 3095
ATTACH;FMTTYPE=image/jpeg:https://visiteidsfoss.no/wp-content/uploads/2022/04/Sara-Marielle-Gaup-Beaska.jpg
END:VEVENT
BEGIN:VEVENT
DTSTART;TZID=Europe/Oslo:20220618T080000
DTEND;TZID=Europe/Oslo:20220618T170000
DTSTAMP:20260425T232151
CREATED:20220324T095932Z
LAST-MODIFIED:20220509T101758Z
UID:6612-1655539200-1655571600@visiteidsfoss.no
SUMMARY:Åpning av Malmveien 18. juni kl. 13-15
DESCRIPTION:Åpning av Malmveien – tur\, foredrag og underholdning\nNoen av de viktigste gruvene til Eidsfoss jernverk\, lå på Konnerudfeltet. Transporten av malm gikk på båt og jernbane\, men også på vei til Eidsfoss. Hof historielag har\, i samarbeid med Konnerud historielag\, ryddet og merket denne gamle ferdselsåren og satt opp informasjonsskilt\, og det markeres med en vandring den 18.juni. Møt opp på Nikkerudgruvene på Konnerud kl 09:00 lørdag morgen. Herfra går turen til Skulkerud\, der det blir foredrag\, trekkspill og sang\, og salg av noe mat og drikke klokka 13-15\, og så går turen videre til Eidsfoss\, for de som orker. Dit ankommer følget antakelig i 16-17-tiden. \nDersom du ikke vil gå den relativt lange turen\, kan du møte opp ved Thorrud camping kl 11. Her vil det være mulig å bli kjørt til Skulkerud\, der åpningsarrangementet går av stabelen kl 13-15. Det er også mulig å bli med i buss fra starten på Konnerud til Skulkerud\, med eller uten retur. Meld fra på forhånd til Hans Peter Fleischer\, tlf 994 82597 send en mail på hanfleis@online.no
URL:https://visiteidsfoss.no/event/apning-av-malmveien-tur-foredrag-og-underholdning/
LOCATION:Nikkerud gruve på Konnerud\, Olsrudveien 15\, Drammen
END:VEVENT
END:VCALENDAR