BEGIN:VCALENDAR
VERSION:2.0
PRODID:-//Visit Eidsfoss - ECPv6.15.20//NONSGML v1.0//EN
CALSCALE:GREGORIAN
METHOD:PUBLISH
X-ORIGINAL-URL:https://visiteidsfoss.no
X-WR-CALDESC:Arrangement for Visit Eidsfoss
REFRESH-INTERVAL;VALUE=DURATION:PT1H
X-Robots-Tag:noindex
X-PUBLISHED-TTL:PT1H
BEGIN:VTIMEZONE
TZID:Europe/Oslo
BEGIN:DAYLIGHT
TZOFFSETFROM:+0100
TZOFFSETTO:+0200
TZNAME:CEST
DTSTART:20210328T010000
END:DAYLIGHT
BEGIN:STANDARD
TZOFFSETFROM:+0200
TZOFFSETTO:+0100
TZNAME:CET
DTSTART:20211031T010000
END:STANDARD
BEGIN:DAYLIGHT
TZOFFSETFROM:+0100
TZOFFSETTO:+0200
TZNAME:CEST
DTSTART:20220327T010000
END:DAYLIGHT
BEGIN:STANDARD
TZOFFSETFROM:+0200
TZOFFSETTO:+0100
TZNAME:CET
DTSTART:20221030T010000
END:STANDARD
BEGIN:DAYLIGHT
TZOFFSETFROM:+0100
TZOFFSETTO:+0200
TZNAME:CEST
DTSTART:20230326T010000
END:DAYLIGHT
BEGIN:STANDARD
TZOFFSETFROM:+0200
TZOFFSETTO:+0100
TZNAME:CET
DTSTART:20231029T010000
END:STANDARD
END:VTIMEZONE
BEGIN:VEVENT
DTSTART;TZID=Europe/Oslo:20220607T080000
DTEND;TZID=Europe/Oslo:20220607T170000
DTSTAMP:20260425T232154
CREATED:20220607T094330Z
LAST-MODIFIED:20220607T094421Z
UID:7163-1654588800-1654621200@visiteidsfoss.no
SUMMARY:Åpning av Malmveien 18. juni
DESCRIPTION:Offisiell åpning av Malmveien\nSkoger og Konnerud Historielag og Hof Historielag har i de siste årene rekonstruert en over 300 år gammel transportvei mellom Konnerud og Eidsfoss. I en 30 årsperiode ble det vinterstid kjørt malm fra Nikkerud gruver på Konnerud over Vestskauen til Eidsfos Verk i Hof. Traseen er nå merket med kart\, skilter\, piler\, QR-kode og GPS-registrert. Lørdag 18. juni 2022 kl. 13.00 blir det offisiell åpning sammen med Turistforeningen og andre inviterte lag og foreninger. Kanskje har du også lyst til å være med og bli kjent med denne spennende historien? \nGåtur fra Konnerud kl. 9.\nBoplassen Skulkerud blir sentral «landingsplass» med hvile og rast\, informasjon om Malmveien\, Skulkerud og Eidsfos verk. Salg av kaffe\, pølser og mineralvann betales med kontanter eller Vipps til 104981. Det er en fordel med sitteunderlag. Du kan ble med på tur fra Konnerud med turledere og guide fra Olsrud parkering på Stubberud kl. 09.00 til Skulkerud\, turen tar ca. 3-4 timer/ca. 9 km. (Passerer SIF-hytta ca. kl. 09.20 hvis noen vil henge seg på derfra.) Ved parkering av bil på Olsrud må det betales p-avgift. Påmelding til Gunnar Wam\, e-post: gunnwam@online.no Medlemmer av Drammen og Omegn Turistforening melder seg på direkte til foreningen. Frist for påmelding er fredag 10. juni 2022. \nÅpningsarrangement på Skulkerud kl 13.\nHvis du ikke vil bli med på turen fra Konnerud\, kan du også komme direkte til åpningsarrangementet fra Eikern-siden. Møt opp på Thorrud camping innen kl 11. Da blir det samkjøring med privatbiler til Skulkerud. Etterpå tilbys guidet vandring til Thorrud/Eikern (ca. 9 km) for de som ikke er avhengig av retur med privatbilene. \nHjemtur og påmelding\nDet er mulighet for transport med buss kl. 11.30 og retur fra Skulkerud til Andorsrud og Olsrud etter arrangementet\, ca. kl. 15.00. Det er ikke anledning til å benytte privatbil\, men bilen kan parkeres ved bommen i Andorsrud mot p-avgift. Påmelding innen fredag 10. juni 2022 for de som ønsker transport til/fra Skulkerud. Påmelding til Gunnar Wam\, e-post: gunnwam@online.no for busstransport fra Andorsrud og retur til Andorsrud og Olsrud. Påmelding til Hans Peter Fleischer\, e-post: hanfleis@online.no for transport med bil fra/til Thorrud. \nArrangement er gratis\, men buss betales med kr 100 hver vei til Skoger og Konnerud Historielag\, Vipps 104981 eller bankkonto nr. 2310.21.21554 ved påmelding. \nSpørsmål om arrangementet: Kontakt Hans Myhre – tlf. 907 62 345
URL:https://visiteidsfoss.no/event/apning-av-malmveien-18-juni/
ATTACH;FMTTYPE=image/jpeg:https://visiteidsfoss.no/wp-content/uploads/2019/08/Helene-på-Blankeberga-edit-2-e1565611631389.jpg
END:VEVENT
END:VCALENDAR