BEGIN:VCALENDAR
VERSION:2.0
PRODID:-//Visit Eidsfoss - ECPv6.15.20//NONSGML v1.0//EN
CALSCALE:GREGORIAN
METHOD:PUBLISH
X-WR-CALNAME:Visit Eidsfoss
X-ORIGINAL-URL:https://visiteidsfoss.no
X-WR-CALDESC:Arrangement for Visit Eidsfoss
REFRESH-INTERVAL;VALUE=DURATION:PT1H
X-Robots-Tag:noindex
X-PUBLISHED-TTL:PT1H
BEGIN:VTIMEZONE
TZID:Europe/Oslo
BEGIN:DAYLIGHT
TZOFFSETFROM:+0100
TZOFFSETTO:+0200
TZNAME:CEST
DTSTART:20210328T010000
END:DAYLIGHT
BEGIN:STANDARD
TZOFFSETFROM:+0200
TZOFFSETTO:+0100
TZNAME:CET
DTSTART:20211031T010000
END:STANDARD
BEGIN:DAYLIGHT
TZOFFSETFROM:+0100
TZOFFSETTO:+0200
TZNAME:CEST
DTSTART:20220327T010000
END:DAYLIGHT
BEGIN:STANDARD
TZOFFSETFROM:+0200
TZOFFSETTO:+0100
TZNAME:CET
DTSTART:20221030T010000
END:STANDARD
BEGIN:DAYLIGHT
TZOFFSETFROM:+0100
TZOFFSETTO:+0200
TZNAME:CEST
DTSTART:20230326T010000
END:DAYLIGHT
BEGIN:STANDARD
TZOFFSETFROM:+0200
TZOFFSETTO:+0100
TZNAME:CET
DTSTART:20231029T010000
END:STANDARD
END:VTIMEZONE
BEGIN:VEVENT
DTSTART;VALUE=DATE:20220604
DTEND;VALUE=DATE:20220606
DTSTAMP:20260425T231926
CREATED:20220314T144229Z
LAST-MODIFIED:20220519T110954Z
UID:6561-1654300800-1654473599@visiteidsfoss.no
SUMMARY:Pinsetreff 4-5. juni
DESCRIPTION:PINSETREFFET PÅ EIDSFOSS 4-5. juni  \nMARKED\, TRYLLING\, GJØGLING\, SMI- OG STØPEKURS\, FORTELLERSTUND OG FOREDRAG  \nEn av de tingene mange helt sikkert har savnet de siste to årene\, er Pinsetreffet på Eidsfoss. Denne kjære tradisjonen har i mer enn 30 år vært et sikkert tegn på at sommeren er i anmarsj. Endelig fylles bodene på industriområdet igjen opp med mange utstillere med hjemmelagde og kortreiste produkter\, men som vanlig skjer det også mye mer. På hovedgården er det trylleshow med Daniel Larsen på lørdag. Samme dag byr Kulturkontoret på et annerledes gjøgleshow med Mr. Maniac og Mr. Orkester. Barna kan også være med på å kjøre hest og vogn\, mens de voksne tar seg en matbit i de historiske stuene eller slapper av i den vakre hagen til verkseiergården fra 1700-tallet. På Jernverksmuseet er det foredrag om ildstedenes historie\, og det er mulig å lære å både støpe og smi. Den legendariske Eidsfoss-vaffelen\, som er stekt på en ekte\, vedfyrt Eidsfoss-ovn\, selges også ved museet. På søndag skjer det også mye for hele familien på markedet. I tillegg til smi- og støpekurs og gjøglershow\, har Julie Vega Dahl fortellerteater\, der barna får høre om Pepperkakegutten og Smørbukk. Det blir også kjente og kjære konkurranser som potet- og sekkeløp\, der alle som er med får godtepremie. \nSpisesteder\, gallerier og museer på hele det historiske stedet holder åpent\, og en lirekassespiller bidrar til den historiske stemningen. Foran museet tilbyr Vestfoldmuseene kurs i smiing med Svarttrost smie og støpeverksted under hele markedet. På lørdag er det foredrag om ildstedenes historie og energieffektivitet på Jernverksmuseet. \nVelkommen til en vakker vårdag på historiske Eidsfoss. \nVil du være utstiller\, ta kontakt på eidsfossmarked@gmail.com \n \nPROGRAM PINSETREFF 2022 \nLørdag 4. juni \n\nMarkedet åpner. Smikurs\, støpeverksted og jernverksvaffel ved museet kl. 12-17\nGjøgleshow med Mr. Maniac og Mr. Orkester i sirkusteltet på hovedgården\nForedrag om ildstedenes historie på Jernverksmuseet\nTrylleshow med Daniel Larsen på hovedgården\n\nSøndag 5. juni \n\nMarkedet åpner. Smikurs\, støpeverksted og jernverksvaffel ved museet kl. 12-17\nGjøgleshow med Mr. Maniac og Mr. Orkester i sirkusteltet på hovedgården\nFortellerteater på hovedgården: Pepperkakegutten\nKonkurranser på hovedgården: potetløp\, sekkeløp – alle som er med får godtepremie\nFortellerteater på hovedgården: Smørbukk\nLeker fra gamle dager. På hovedgården\n\n«Eidsfossvaffelen»\, som er stekt på vedfyrt Eidsfoss-ovn\, selges utenfor museet 12-17 begge dager \n  \n 
URL:https://visiteidsfoss.no/event/pinsetreff-2/
LOCATION:Eidsfoss
ORGANIZER;CN="Eidsfoss markedsgruppe":MAILTO:eidsfossmarked@gmail.com
END:VEVENT
END:VCALENDAR