BEGIN:VCALENDAR
VERSION:2.0
PRODID:-//Visit Eidsfoss - ECPv6.15.20//NONSGML v1.0//EN
CALSCALE:GREGORIAN
METHOD:PUBLISH
X-ORIGINAL-URL:https://visiteidsfoss.no
X-WR-CALDESC:Arrangement for Visit Eidsfoss
REFRESH-INTERVAL;VALUE=DURATION:PT1H
X-Robots-Tag:noindex
X-PUBLISHED-TTL:PT1H
BEGIN:VTIMEZONE
TZID:Europe/Oslo
BEGIN:DAYLIGHT
TZOFFSETFROM:+0100
TZOFFSETTO:+0200
TZNAME:CEST
DTSTART:20210328T010000
END:DAYLIGHT
BEGIN:STANDARD
TZOFFSETFROM:+0200
TZOFFSETTO:+0100
TZNAME:CET
DTSTART:20211031T010000
END:STANDARD
BEGIN:DAYLIGHT
TZOFFSETFROM:+0100
TZOFFSETTO:+0200
TZNAME:CEST
DTSTART:20220327T010000
END:DAYLIGHT
BEGIN:STANDARD
TZOFFSETFROM:+0200
TZOFFSETTO:+0100
TZNAME:CET
DTSTART:20221030T010000
END:STANDARD
BEGIN:DAYLIGHT
TZOFFSETFROM:+0100
TZOFFSETTO:+0200
TZNAME:CEST
DTSTART:20230326T010000
END:DAYLIGHT
BEGIN:STANDARD
TZOFFSETFROM:+0200
TZOFFSETTO:+0100
TZNAME:CET
DTSTART:20231029T010000
END:STANDARD
END:VTIMEZONE
BEGIN:VEVENT
DTSTART;TZID=Europe/Oslo:20220517T140000
DTEND;TZID=Europe/Oslo:20220517T230000
DTSTAMP:20260426T003946
CREATED:20220404T082511Z
LAST-MODIFIED:20220429T102831Z
UID:6797-1652796000-1652828400@visiteidsfoss.no
SUMMARY:Kanonsalutt\, utstillingsåpning og servering på Hovedgården 17. mai
DESCRIPTION:Salutt\, utstillingsåpning\, servering og underholdning på hovedgården på nasjonaldagen\nPå nasjonaldagen salutteres det kl 15\, med de nyrestaurerte kanonene på Eidsfoss hovedgård. Utstillingen «Ei blott til dyst – kanonene på Eidsfoss hovedgård» åpner i garasjen i Kavalérfløyen\, og hovedgården er åpen 14-23 med servering\, og byr på tradisjonelle leker og hygge for hele familien. Bordbestilling\, åpen bar og underholdning. Velkommen og gratulerer med dagen!
URL:https://visiteidsfoss.no/event/kanonsalutt-pa-hovedgarden-17-mai-kl-15/
LOCATION:Eidsfos Hovedgård
END:VEVENT
END:VCALENDAR